BEGIN:VCALENDAR
VERSION:2.0
PRODID:-//Berkeley County Republican Club - ECPv6.15.20//NONSGML v1.0//EN
CALSCALE:GREGORIAN
METHOD:PUBLISH
X-ORIGINAL-URL:https://berkeleycountygop.com
X-WR-CALDESC:Events for Berkeley County Republican Club
REFRESH-INTERVAL;VALUE=DURATION:PT1H
X-Robots-Tag:noindex
X-PUBLISHED-TTL:PT1H
BEGIN:VTIMEZONE
TZID:UTC
BEGIN:STANDARD
TZOFFSETFROM:+0000
TZOFFSETTO:+0000
TZNAME:UTC
DTSTART:20220101T000000
END:STANDARD
END:VTIMEZONE
BEGIN:VEVENT
DTSTART;TZID=UTC:20230420T183000
DTEND;TZID=UTC:20230420T200000
DTSTAMP:20260424T010401
CREATED:20230412T223108Z
LAST-MODIFIED:20230425T140642Z
UID:228-1682015400-1682020800@berkeleycountygop.com
SUMMARY:Berkeley County Republican Club Monthly Meeting
DESCRIPTION:Berkeley County Republican Club Monthly Meeting\n3rd Thursday of Every Month\n6:30pm to 8pm\nBedington Ruritan Club\n3947 Williamsport Pike\nMartinsburg\, WV 25404
URL:https://berkeleycountygop.com/event/berkeley-county-republican-club-monthly-meeting/
LOCATION:Bedington Ruritan Club\, 3947 Williamsport Pike\, Martinsburg\, WV\, 25404\, United States
END:VEVENT
END:VCALENDAR