BEGIN:VCALENDAR
VERSION:2.0
PRODID:-//Berkeley County Republican Club - ECPv6.15.20//NONSGML v1.0//EN
CALSCALE:GREGORIAN
METHOD:PUBLISH
X-ORIGINAL-URL:https://berkeleycountygop.com
X-WR-CALDESC:Events for Berkeley County Republican Club
REFRESH-INTERVAL;VALUE=DURATION:PT1H
X-Robots-Tag:noindex
X-PUBLISHED-TTL:PT1H
BEGIN:VTIMEZONE
TZID:UTC
BEGIN:STANDARD
TZOFFSETFROM:+0000
TZOFFSETTO:+0000
TZNAME:UTC
DTSTART:20220101T000000
END:STANDARD
END:VTIMEZONE
BEGIN:VEVENT
DTSTART;TZID=UTC:20230430T170000
DTEND;TZID=UTC:20230430T210000
DTSTAMP:20260424T010403
CREATED:20230318T184427Z
LAST-MODIFIED:20230419T194135Z
UID:172-1682874000-1682888400@berkeleycountygop.com
SUMMARY:Lincoln Day Dinner
DESCRIPTION:Lincoln Day DinnerSunday\, April 30\, 20235:00 pm to 9:00 pmHollywood Casino at Charles Town Races750 Hollywood Dr\, Charles Town\, WV 25414 \nGift Baskets\, Raffles\, Live MusicDinner Individual Tickets $80 (Dinner\, Cash Bar)Premium Individual Ticket $125Includes dinner seating at premium location\, dinner\, cash car \nEvening’s Featured SpeakersUs Congressman Alex Mooney & WV’s Treasurer Riley Moore \nSponsorships Available: Platinum\, Gold\, Silver \nPlatinum Sponsorship ($2500): Table for 8\, Sponsor Name on all program materials\, premium seating \nGold ($1500): 4 event tickets\, sponsor name displayed at dessert table\, premium seating \nSilver ($1000):  2 event tickets\, premium seating\, name in program \nFor more information on sponsorships call Lisa White (240) 464-1608 \n			\n				Buy Dinner Tickets
URL:https://berkeleycountygop.com/event/lincoln-day-dinner/
LOCATION:Hollywood Casino at Charles Town Races\, 750 Hollywood Dr\, Charles Town\,\, WV\, 25414\, United States
END:VEVENT
END:VCALENDAR