BEGIN:VCALENDAR
VERSION:2.0
PRODID:-//Berkeley County Republican Club - ECPv6.15.20//NONSGML v1.0//EN
CALSCALE:GREGORIAN
METHOD:PUBLISH
X-ORIGINAL-URL:https://berkeleycountygop.com
X-WR-CALDESC:Events for Berkeley County Republican Club
REFRESH-INTERVAL;VALUE=DURATION:PT1H
X-Robots-Tag:noindex
X-PUBLISHED-TTL:PT1H
BEGIN:VTIMEZONE
TZID:UTC
BEGIN:STANDARD
TZOFFSETFROM:+0000
TZOFFSETTO:+0000
TZNAME:UTC
DTSTART:20220101T000000
END:STANDARD
END:VTIMEZONE
BEGIN:VEVENT
DTSTART;TZID=UTC:20230819T100000
DTEND;TZID=UTC:20230819T110000
DTSTAMP:20260423T182816
CREATED:20230503T225832Z
LAST-MODIFIED:20230503T230106Z
UID:286-1692439200-1692442800@berkeleycountygop.com
SUMMARY:Berkeley County Republican Executive Committee Monthly Meeting
DESCRIPTION:August 19 @ 10:00 am – 11:00 am\n\n\nBerkeley County Republican Executive Committee monthly member meeting \nEastern WV Regional Airport 170 Aviation Way Martinsburg\, WV 25405
URL:https://berkeleycountygop.com/event/berkeley-county-republican-executive-committee-monthly-meeting-4/
LOCATION:WV
END:VEVENT
END:VCALENDAR