BEGIN:VCALENDAR
VERSION:2.0
PRODID:-//Berkeley County Republican Club - ECPv6.15.20//NONSGML v1.0//EN
CALSCALE:GREGORIAN
METHOD:PUBLISH
X-ORIGINAL-URL:https://berkeleycountygop.com
X-WR-CALDESC:Events for Berkeley County Republican Club
REFRESH-INTERVAL;VALUE=DURATION:PT1H
X-Robots-Tag:noindex
X-PUBLISHED-TTL:PT1H
BEGIN:VTIMEZONE
TZID:UTC
BEGIN:STANDARD
TZOFFSETFROM:+0000
TZOFFSETTO:+0000
TZNAME:UTC
DTSTART:20230101T000000
END:STANDARD
END:VTIMEZONE
BEGIN:VEVENT
DTSTART;TZID=UTC:20240226T183000
DTEND;TZID=UTC:20240226T200000
DTSTAMP:20260423T073854
CREATED:20240219T222039Z
LAST-MODIFIED:20240219T222039Z
UID:1044-1708972200-1708977600@berkeleycountygop.com
SUMMARY:Candidate Forums sponsored by Gateway Republican Women's Club
DESCRIPTION:
URL:https://berkeleycountygop.com/event/candidate-forums-sponsored-by-gateway-republican-womens-club/
LOCATION:Hospice of the Panhandle\, 330 Hospice LN\, Kearneysville\, WV\, 25430\, United States
END:VEVENT
BEGIN:VEVENT
DTSTART;TZID=UTC:20240226T183000
DTEND;TZID=UTC:20240226T203000
DTSTAMP:20260423T073854
CREATED:20240115T131709Z
LAST-MODIFIED:20240115T131709Z
UID:750-1708972200-1708979400@berkeleycountygop.com
SUMMARY:Gateway Republican Women
DESCRIPTION:Membership is granted to all women who are registered Republicans. Dues are $35 per year. Men are encouraged to join as Associate Members for $10 per year and who are registered Republicans.
URL:https://berkeleycountygop.com/event/gateway-republican-women-3/
LOCATION:Hospice of the Panhandle\, 330 Hospice LN\, Kearneysville\, WV\, 25430\, United States
END:VEVENT
END:VCALENDAR