BEGIN:VCALENDAR
VERSION:2.0
PRODID:-//Berkeley County Republican Club - ECPv6.15.20//NONSGML v1.0//EN
CALSCALE:GREGORIAN
METHOD:PUBLISH
X-ORIGINAL-URL:https://berkeleycountygop.com
X-WR-CALDESC:Events for Berkeley County Republican Club
REFRESH-INTERVAL;VALUE=DURATION:PT1H
X-Robots-Tag:noindex
X-PUBLISHED-TTL:PT1H
BEGIN:VTIMEZONE
TZID:UTC
BEGIN:STANDARD
TZOFFSETFROM:+0000
TZOFFSETTO:+0000
TZNAME:UTC
DTSTART:20230101T000000
END:STANDARD
END:VTIMEZONE
BEGIN:VEVENT
DTSTART;TZID=UTC:20240824T170000
DTEND;TZID=UTC:20240824T200000
DTSTAMP:20260422T235706
CREATED:20240816T205523Z
LAST-MODIFIED:20240816T205523Z
UID:1329-1724518800-1724529600@berkeleycountygop.com
SUMMARY:Chris Anders - Meet and Greet Fundraiser
DESCRIPTION:Come out to meet Chris Anders\, a candidate running for delegate of the Great State of West Virginia.
URL:https://berkeleycountygop.com/event/chris-anders-meet-and-greet-fundraiser/
LOCATION:Mounteer Meat Smokers\, 45 Monroe St\, Martinsburg\, WV\, 25404\, United States
END:VEVENT
END:VCALENDAR