BEGIN:VCALENDAR
VERSION:2.0
PRODID:-//Berkeley County Republican Club - ECPv6.15.20//NONSGML v1.0//EN
CALSCALE:GREGORIAN
METHOD:PUBLISH
X-ORIGINAL-URL:https://berkeleycountygop.com
X-WR-CALDESC:Events for Berkeley County Republican Club
REFRESH-INTERVAL;VALUE=DURATION:PT1H
X-Robots-Tag:noindex
X-PUBLISHED-TTL:PT1H
BEGIN:VTIMEZONE
TZID:UTC
BEGIN:STANDARD
TZOFFSETFROM:+0000
TZOFFSETTO:+0000
TZNAME:UTC
DTSTART:20240101T000000
END:STANDARD
END:VTIMEZONE
BEGIN:VEVENT
DTSTART;TZID=UTC:20251004T093000
DTEND;TZID=UTC:20251004T113000
DTSTAMP:20260422T004555
CREATED:20251001T194818Z
LAST-MODIFIED:20251001T194848Z
UID:2045-1759570200-1759577400@berkeleycountygop.com
SUMMARY:Concerned Women for America meeting
DESCRIPTION:Brunch at 9:30 am \nHome of Betty Dehaven \n304.995.4739 \nbettydehaven@live.com
URL:https://berkeleycountygop.com/event/concerned-woment-for-america-meeting/
LOCATION:WV
ORGANIZER;CN="Betty DeHaven":MAILTO:bettydehaven@live.com
END:VEVENT
END:VCALENDAR