BEGIN:VCALENDAR
VERSION:2.0
PRODID:-//Berkeley County Republican Club - ECPv6.15.20//NONSGML v1.0//EN
CALSCALE:GREGORIAN
METHOD:PUBLISH
X-ORIGINAL-URL:https://berkeleycountygop.com
X-WR-CALDESC:Events for Berkeley County Republican Club
REFRESH-INTERVAL;VALUE=DURATION:PT1H
X-Robots-Tag:noindex
X-PUBLISHED-TTL:PT1H
BEGIN:VTIMEZONE
TZID:UTC
BEGIN:STANDARD
TZOFFSETFROM:+0000
TZOFFSETTO:+0000
TZNAME:UTC
DTSTART:20240101T000000
END:STANDARD
END:VTIMEZONE
BEGIN:VEVENT
DTSTART;TZID=UTC:20251010T120000
DTEND;TZID=UTC:20251010T130000
DTSTAMP:20260422T004608
CREATED:20251001T195159Z
LAST-MODIFIED:20251001T195159Z
UID:2048-1760097600-1760101200@berkeleycountygop.com
SUMMARY:Eastern Panhandle Business Association Luncheon
DESCRIPTION:at the Purple Iris \nContact Don Forsht at dhforsht@gmail.com to make a reservations.
URL:https://berkeleycountygop.com/event/eastern-panhandle-business-association-luncheon/
LOCATION:Purple Iris\, 1956 WinchesterAve.\, Martinsburg\, WV\, 25405\, United States
END:VEVENT
END:VCALENDAR