BEGIN:VCALENDAR
VERSION:2.0
PRODID:-//Berkeley County Republican Club - ECPv6.15.20//NONSGML v1.0//EN
CALSCALE:GREGORIAN
METHOD:PUBLISH
X-WR-CALNAME:Berkeley County Republican Club
X-ORIGINAL-URL:https://berkeleycountygop.com
X-WR-CALDESC:Events for Berkeley County Republican Club
REFRESH-INTERVAL;VALUE=DURATION:PT1H
X-Robots-Tag:noindex
X-PUBLISHED-TTL:PT1H
BEGIN:VTIMEZONE
TZID:UTC
BEGIN:STANDARD
TZOFFSETFROM:+0000
TZOFFSETTO:+0000
TZNAME:UTC
DTSTART:20240101T000000
END:STANDARD
END:VTIMEZONE
BEGIN:VEVENT
DTSTART;TZID=UTC:20251108T170000
DTEND;TZID=UTC:20251108T220000
DTSTAMP:20260421T230022
CREATED:20250621T164839Z
LAST-MODIFIED:20251011T140604Z
UID:1922-1762621200-1762639200@berkeleycountygop.com
SUMMARY:Eisenhower Dinner
DESCRIPTION:Eisenhower Reception Ticket 2025\n	$50.00\n\n\n	Eisenhower Dinner Ticket 2025\n	$75.00\n\n\n	Eisenhower Dinner 2 Tickets for $125\n	$125.00\n\n\n	Eisenhower Dinner Bronze Sponsor – $300\n	$300.00\n\n\n	Eisenhower Dinner Silver Sponsor – $500\n	$500.00\n\n\n	Eisenhower Table for 8 Dinner Tickets 2025\n	$525.00\n\n\n	Eisenhower Table for 10 Dinner Tickets 2025\n	$650.00\n\n\n	Eisenhower Dinner Gold Sponsor – $750\n	$750.00
URL:https://berkeleycountygop.com/event/eisenhower-dinner-3/
LOCATION:Heritage Hall\, 8539 Winchester Avenue\, Inwood\, WV\, United States
CATEGORIES:2025 Eisenhower Dinner
ATTACH;FMTTYPE=image/jpeg:https://berkeleycountygop.com/wp-content/uploads/2025/10/Eisenhower-Flyer.jpg
ORGANIZER;CN="Trisha Larimore":MAILTO:jrlriverrat1@yahoo.com
END:VEVENT
END:VCALENDAR