BEGIN:VCALENDAR
VERSION:2.0
PRODID:-//Berkeley County Republican Club - ECPv6.15.20//NONSGML v1.0//EN
CALSCALE:GREGORIAN
METHOD:PUBLISH
X-WR-CALNAME:Berkeley County Republican Club
X-ORIGINAL-URL:https://berkeleycountygop.com
X-WR-CALDESC:Events for Berkeley County Republican Club
REFRESH-INTERVAL;VALUE=DURATION:PT1H
X-Robots-Tag:noindex
X-PUBLISHED-TTL:PT1H
BEGIN:VTIMEZONE
TZID:UTC
BEGIN:STANDARD
TZOFFSETFROM:+0000
TZOFFSETTO:+0000
TZNAME:UTC
DTSTART:20240101T000000
END:STANDARD
END:VTIMEZONE
BEGIN:VEVENT
DTSTART;TZID=UTC:20251220T100000
DTEND;TZID=UTC:20251220T110000
DTSTAMP:20260421T212446
CREATED:20250312T022316Z
LAST-MODIFIED:20251129T140115Z
UID:1745-1766224800-1766228400@berkeleycountygop.com
SUMMARY:Berkeley County Republican Executive Committee
DESCRIPTION:No December meeting: \nWill be participating in Holiday Party with BCRC. See BCRC webpage for details.
URL:https://berkeleycountygop.com/event/berkeley-county-republican-executive-committee-12/
LOCATION:CNB Bank\, 1231 T.J. Jackson Drive\, Falling Waters\, WV\, 25419\, United States
END:VEVENT
END:VCALENDAR