BEGIN:VCALENDAR
VERSION:2.0
PRODID:-//Berkeley County Republican Club - ECPv6.15.20//NONSGML v1.0//EN
CALSCALE:GREGORIAN
METHOD:PUBLISH
X-ORIGINAL-URL:https://berkeleycountygop.com
X-WR-CALDESC:Events for Berkeley County Republican Club
REFRESH-INTERVAL;VALUE=DURATION:PT1H
X-Robots-Tag:noindex
X-PUBLISHED-TTL:PT1H
BEGIN:VTIMEZONE
TZID:UTC
BEGIN:STANDARD
TZOFFSETFROM:+0000
TZOFFSETTO:+0000
TZNAME:UTC
DTSTART:20250101T000000
END:STANDARD
END:VTIMEZONE
BEGIN:VEVENT
DTSTART;TZID=UTC:20260106T190000
DTEND;TZID=UTC:20260106T210000
DTSTAMP:20260421T192045
CREATED:20260103T182757Z
LAST-MODIFIED:20260103T182757Z
UID:2239-1767726000-1767733200@berkeleycountygop.com
SUMMARY:Jefferson County Republican Executive Committee Meeting
DESCRIPTION:
URL:https://berkeleycountygop.com/event/jefferson-county-republican-executive-committee-meeting/
LOCATION:Clarion Inn\, 328 William L. Wilson Fwy\, Harpers Ferry\, WV\, United States
END:VEVENT
END:VCALENDAR