BEGIN:VCALENDAR
VERSION:2.0
PRODID:-//Berkeley County Republican Club - ECPv6.15.20//NONSGML v1.0//EN
CALSCALE:GREGORIAN
METHOD:PUBLISH
X-WR-CALNAME:Berkeley County Republican Club
X-ORIGINAL-URL:https://berkeleycountygop.com
X-WR-CALDESC:Events for Berkeley County Republican Club
REFRESH-INTERVAL;VALUE=DURATION:PT1H
X-Robots-Tag:noindex
X-PUBLISHED-TTL:PT1H
BEGIN:VTIMEZONE
TZID:UTC
BEGIN:STANDARD
TZOFFSETFROM:+0000
TZOFFSETTO:+0000
TZNAME:UTC
DTSTART:20250101T000000
END:STANDARD
END:VTIMEZONE
BEGIN:VEVENT
DTSTART;TZID=UTC:20260112T080000
DTEND;TZID=UTC:20260131T170000
DTSTAMP:20260421T175556
CREATED:20260103T183238Z
LAST-MODIFIED:20260103T183238Z
UID:2245-1768204800-1769878800@berkeleycountygop.com
SUMMARY:Candidate Filing Period for May 12 Primary
DESCRIPTION:
URL:https://berkeleycountygop.com/event/candidate-filing-period-for-may-12-primary/
LOCATION:WV
END:VEVENT
BEGIN:VEVENT
DTSTART;TZID=UTC:20260112T080000
DTEND;TZID=UTC:20260314T170000
DTSTAMP:20260421T175556
CREATED:20260103T183722Z
LAST-MODIFIED:20260103T183722Z
UID:2249-1768204800-1773507600@berkeleycountygop.com
SUMMARY:Legislatie Session Begins
DESCRIPTION:60-day Legislative Session begins 1/14 and goes through 3/14.
URL:https://berkeleycountygop.com/event/legislatie-session-begins/
LOCATION:Charleston\, WV
END:VEVENT
BEGIN:VEVENT
DTSTART;VALUE=DATE:20260129
DTEND;VALUE=DATE:20260131
DTSTAMP:20260421T175556
CREATED:20260103T185602Z
LAST-MODIFIED:20260103T190247Z
UID:2255-1769644800-1769817599@berkeleycountygop.com
SUMMARY:AFP Sponsored Charleston Trip
DESCRIPTION:An all-expense paid trip to the state capital to see the legislative process in action\, meet your lawmakers where they are working for you and network with activists from across the state. \nRSVP- Ambrose Rucker at arucker@afphq.org \nor call 304-707-6032 if you can attend or have questions.
URL:https://berkeleycountygop.com/event/afp-sponsored-charleston-trip/
LOCATION:AFP\, 1314 Edwin Miller Blvd.\, Martinsburg\, WV\, 25404\, United States
END:VEVENT
END:VCALENDAR