BEGIN:VCALENDAR
VERSION:2.0
PRODID:-//Berkeley County Republican Club - ECPv6.15.20//NONSGML v1.0//EN
CALSCALE:GREGORIAN
METHOD:PUBLISH
X-WR-CALNAME:Berkeley County Republican Club
X-ORIGINAL-URL:https://berkeleycountygop.com
X-WR-CALDESC:Events for Berkeley County Republican Club
REFRESH-INTERVAL;VALUE=DURATION:PT1H
X-Robots-Tag:noindex
X-PUBLISHED-TTL:PT1H
BEGIN:VTIMEZONE
TZID:UTC
BEGIN:STANDARD
TZOFFSETFROM:+0000
TZOFFSETTO:+0000
TZNAME:UTC
DTSTART:20250101T000000
END:STANDARD
END:VTIMEZONE
BEGIN:VEVENT
DTSTART;TZID=UTC:20260112T080000
DTEND;TZID=UTC:20260314T170000
DTSTAMP:20260421T175626
CREATED:20260103T183722Z
LAST-MODIFIED:20260103T183722Z
UID:2249-1768204800-1773507600@berkeleycountygop.com
SUMMARY:Legislatie Session Begins
DESCRIPTION:60-day Legislative Session begins 1/14 and goes through 3/14.
URL:https://berkeleycountygop.com/event/legislatie-session-begins/
LOCATION:Charleston\, WV
END:VEVENT
BEGIN:VEVENT
DTSTART;TZID=UTC:20260219T183000
DTEND;TZID=UTC:20260219T200000
DTSTAMP:20260421T175626
CREATED:20251229T202805Z
LAST-MODIFIED:20251229T202805Z
UID:2146-1771525800-1771531200@berkeleycountygop.com
SUMMARY:Berkeley County Republican Club Meeting
DESCRIPTION:
URL:https://berkeleycountygop.com/event/berkeley-county-republican-club-meeting-9/
LOCATION:Bedington Ruritan Club\, 3947 Williamsport Pike\, Martinsburg\, WV\, 25404\, United States
END:VEVENT
END:VCALENDAR