BEGIN:VCALENDAR
VERSION:2.0
PRODID:-//Berkeley County Republican Club - ECPv6.15.20//NONSGML v1.0//EN
CALSCALE:GREGORIAN
METHOD:PUBLISH
X-WR-CALNAME:Berkeley County Republican Club
X-ORIGINAL-URL:https://berkeleycountygop.com
X-WR-CALDESC:Events for Berkeley County Republican Club
REFRESH-INTERVAL;VALUE=DURATION:PT1H
X-Robots-Tag:noindex
X-PUBLISHED-TTL:PT1H
BEGIN:VTIMEZONE
TZID:UTC
BEGIN:STANDARD
TZOFFSETFROM:+0000
TZOFFSETTO:+0000
TZNAME:UTC
DTSTART:20250101T000000
END:STANDARD
END:VTIMEZONE
BEGIN:VEVENT
DTSTART;TZID=UTC:20260425T100000
DTEND;TZID=UTC:20260425T110000
DTSTAMP:20260421T114424
CREATED:20251229T205044Z
LAST-MODIFIED:20251229T205044Z
UID:2174-1777111200-1777114800@berkeleycountygop.com
SUMMARY:Berkeley County Republican Executive Committee
DESCRIPTION:
URL:https://berkeleycountygop.com/event/berkeley-county-republican-executive-committee-14/
LOCATION:CNB Bank\, 1231 T.J. Jackson Drive\, Falling Waters\, WV\, 25419\, United States
END:VEVENT
BEGIN:VEVENT
DTSTART;TZID=UTC:20260425T180000
DTEND;TZID=UTC:20260425T210000
DTSTAMP:20260421T114424
CREATED:20260103T190618Z
LAST-MODIFIED:20260319T171355Z
UID:2258-1777140000-1777150800@berkeleycountygop.com
SUMMARY:Lincoln Dinner 2026 Fundraiser
DESCRIPTION:2026 Lincoln Dinner & Meet The Candidates Reception\nSaturday\, April 25\, 20264:30 – 9:00 pmHoliday Inn\, Martinsburg\, WVReception 4:30 – 6:00 pmDinner 6:00 – 9:00 pm \nDinner Tickets $75/personReception Tickets $25/personDinner + Reception $100/person \nKeynote speaker Libby Emmons is the editor-in-chief of The Post Millennial and Human Events.  \n She has appeared on Tim Pool’s Timcast\, Human Events Daily\, The Charlie Kirk Show\, Lara Trump’s The Right View\, and Tucker Carlson Tonight\, among other shows and podcasts. Before journalism\, she was a theater artist in New York\, and attended Sarah Lawrence College and Columbia University.  \n			\n			\n				\n				\n				\n				\n			\n				\n				\n				\n				\n				\n				\n				\n				\n				\n				\n				\n\n	Lincoln Dinner & Reception Ticket 2026\n	$100.00\n\n\n	Lincoln Dinner Ticket 2026\n	$75.00\n\n\n	Lincoln Dinner Reception Ticket 2026\n	$25.00\n\n\n\n			\n			\n				\n				\n				\n				\n			\n				\n				\n				\n				\n				\n				\n				\n				\n				\n				\n				\n\n	Lincoln Dinner Bronze Sponsor\n	$250.00\n\n\n	Lincoln Dinner Silver Sponsor\n	$500.00\n\n\n	Lincoln Dinner Gold Sponsor\n	$750.00
URL:https://berkeleycountygop.com/event/lincoln-dinner-2026-fundraiser/
LOCATION:The Holiday Inn  301 Foxcroft Ave.\, Martinsburg\,WV\, 301 Foxcroft Ave\, Martinsburg\, WV\, 25401\, United States
END:VEVENT
END:VCALENDAR