BEGIN:VCALENDAR
VERSION:2.0
PRODID:-//Berkeley County Republican Club - ECPv6.15.20//NONSGML v1.0//EN
CALSCALE:GREGORIAN
METHOD:PUBLISH
X-WR-CALNAME:Berkeley County Republican Club
X-ORIGINAL-URL:https://berkeleycountygop.com
X-WR-CALDESC:Events for Berkeley County Republican Club
REFRESH-INTERVAL;VALUE=DURATION:PT1H
X-Robots-Tag:noindex
X-PUBLISHED-TTL:PT1H
BEGIN:VTIMEZONE
TZID:UTC
BEGIN:STANDARD
TZOFFSETFROM:+0000
TZOFFSETTO:+0000
TZNAME:UTC
DTSTART:20250101T000000
END:STANDARD
END:VTIMEZONE
BEGIN:VEVENT
DTSTART;TZID=UTC:20260613T160000
DTEND;TZID=UTC:20260613T190000
DTSTAMP:20260421T174822
CREATED:20260401T201347Z
LAST-MODIFIED:20260401T201347Z
UID:2473-1781366400-1781377200@berkeleycountygop.com
SUMMARY:Reagan Picnic
DESCRIPTION:War Memorial Park\, Martinsburg\, WV
URL:https://berkeleycountygop.com/event/reagan-picnic/
LOCATION:War Memorial Park  Main Pavillion\, North Tennesee Ave\, Martinsburg\, WV\, 25401\, United States
ORGANIZER;CN="Krista Kniesler":MAILTO:kniesler@live.com
END:VEVENT
END:VCALENDAR