BEGIN:VCALENDAR
VERSION:2.0
PRODID:-//Berkeley County Republican Club - ECPv6.15.20//NONSGML v1.0//EN
CALSCALE:GREGORIAN
METHOD:PUBLISH
X-ORIGINAL-URL:https://berkeleycountygop.com
X-WR-CALDESC:Events for Berkeley County Republican Club
REFRESH-INTERVAL;VALUE=DURATION:PT1H
X-Robots-Tag:noindex
X-PUBLISHED-TTL:PT1H
BEGIN:VTIMEZONE
TZID:UTC
BEGIN:STANDARD
TZOFFSETFROM:+0000
TZOFFSETTO:+0000
TZNAME:UTC
DTSTART:20250101T000000
END:STANDARD
END:VTIMEZONE
BEGIN:VEVENT
DTSTART;TZID=UTC:20260629T183000
DTEND;TZID=UTC:20260629T203000
DTSTAMP:20260421T175001
CREATED:20251229T233442Z
LAST-MODIFIED:20251229T235148Z
UID:2202-1782757800-1782765000@berkeleycountygop.com
SUMMARY:Gateway Republican Women
DESCRIPTION:
URL:https://berkeleycountygop.com/event/gateway-republican-women-10/
LOCATION:AFP\, 1314 Edwin Miller Blvd.\, Martinsburg\, WV\, 25404\, United States
ORGANIZER;CN="Krista Kniesler":MAILTO:kniesler@live.com
END:VEVENT
END:VCALENDAR