BEGIN:VCALENDAR
VERSION:2.0
PRODID:-//Berkeley County Republican Club - ECPv6.15.20//NONSGML v1.0//EN
CALSCALE:GREGORIAN
METHOD:PUBLISH
X-WR-CALNAME:Berkeley County Republican Club
X-ORIGINAL-URL:https://berkeleycountygop.com
X-WR-CALDESC:Events for Berkeley County Republican Club
REFRESH-INTERVAL;VALUE=DURATION:PT1H
X-Robots-Tag:noindex
X-PUBLISHED-TTL:PT1H
BEGIN:VTIMEZONE
TZID:UTC
BEGIN:STANDARD
TZOFFSETFROM:+0000
TZOFFSETTO:+0000
TZNAME:UTC
DTSTART:20230101T000000
END:STANDARD
END:VTIMEZONE
BEGIN:VEVENT
DTSTART;TZID=UTC:20240919T183000
DTEND;TZID=UTC:20240919T200000
DTSTAMP:20260422T221219
CREATED:20231201T195801Z
LAST-MODIFIED:20231201T195801Z
UID:724-1726770600-1726776000@berkeleycountygop.com
SUMMARY:Berkeley County Republican Club
DESCRIPTION:
URL:https://berkeleycountygop.com/event/berkeley-county-republican-club-9/
LOCATION:Bedington Ruritan Club\, 3947 Williamsport Pike\, Martinsburg\, WV\, 25404\, United States
END:VEVENT
BEGIN:VEVENT
DTSTART;TZID=UTC:20240921T100000
DTEND;TZID=UTC:20240921T110000
DTSTAMP:20260422T221219
CREATED:20231201T193141Z
LAST-MODIFIED:20231202T211448Z
UID:697-1726912800-1726916400@berkeleycountygop.com
SUMMARY:Berkeley County Republican Executive Committee Meeting
DESCRIPTION:
URL:https://berkeleycountygop.com/event/berkeley-county-republican-executive-committee-meeting-9/
LOCATION:Eastern WV Regional Airport\, 170 Aviation Way\, Martinsburg\, WV\, 25405\, United States
END:VEVENT
BEGIN:VEVENT
DTSTART;TZID=UTC:20240928T150000
DTEND;TZID=UTC:20240928T200000
DTSTAMP:20260422T221219
CREATED:20240903T195328Z
LAST-MODIFIED:20240903T195328Z
UID:1391-1727535600-1727553600@berkeleycountygop.com
SUMMARY:Rally for Rucker
DESCRIPTION:Rally For Rucker \nFood\, live music and neighbors gathered to support Patricia Rucker for WV Senate! \nBYOB and Camp Chairs
URL:https://berkeleycountygop.com/event/rally-for-rucker/
LOCATION:253 Prospect Ave.\, 253 Prospect Ave\, Hapers Ferry\, West Virginia
END:VEVENT
BEGIN:VEVENT
DTSTART;TZID=UTC:20240930T180000
DTEND;TZID=UTC:20240930T200000
DTSTAMP:20260422T221219
CREATED:20240816T210920Z
LAST-MODIFIED:20240816T210920Z
UID:1340-1727719200-1727726400@berkeleycountygop.com
SUMMARY:Gateway Republican Women's Club
DESCRIPTION:
URL:https://berkeleycountygop.com/event/gateway-republican-womens-club-2/
LOCATION:Hospice of the Panhandle\, 330 Hospice LN\, Kearneysville\, WV\, 25430\, United States
END:VEVENT
BEGIN:VEVENT
DTSTART;TZID=UTC:20241008T130000
DTEND;TZID=UTC:20241107T190000
DTSTAMP:20260422T221219
CREATED:20241008T133853Z
LAST-MODIFIED:20241008T133853Z
UID:1478-1728392400-1731006000@berkeleycountygop.com
SUMMARY:Berkeley County VICTORY Center
DESCRIPTION:Is now OPEN
URL:https://berkeleycountygop.com/event/berkeley-county-victory-center/
LOCATION:Berkeley County GOP HQ\, 143-2 Edwin Miller Blvd.\, Martinsburg\, WV\, 25404\, United States
END:VEVENT
BEGIN:VEVENT
DTSTART;TZID=UTC:20241017T183000
DTEND;TZID=UTC:20241017T200000
DTSTAMP:20260422T221219
CREATED:20231201T195910Z
LAST-MODIFIED:20231201T195910Z
UID:726-1729189800-1729195200@berkeleycountygop.com
SUMMARY:Berkeley County Republican Club
DESCRIPTION:
URL:https://berkeleycountygop.com/event/berkeley-county-republican-club-10/
LOCATION:Bedington Ruritan Club\, 3947 Williamsport Pike\, Martinsburg\, WV\, 25404\, United States
END:VEVENT
BEGIN:VEVENT
DTSTART;TZID=UTC:20241019T100000
DTEND;TZID=UTC:20241019T110000
DTSTAMP:20260422T221219
CREATED:20231201T193332Z
LAST-MODIFIED:20231202T211359Z
UID:699-1729332000-1729335600@berkeleycountygop.com
SUMMARY:Berkeley County Republican Executive Committee Meeting
DESCRIPTION:
URL:https://berkeleycountygop.com/event/berkeley-county-republican-executive-committee-meeting-10/
LOCATION:Eastern WV Regional Airport\, 170 Aviation Way\, Martinsburg\, WV\, 25405\, United States
END:VEVENT
BEGIN:VEVENT
DTSTART;TZID=UTC:20241028T180000
DTEND;TZID=UTC:20241028T200000
DTSTAMP:20260422T221219
CREATED:20240816T210311Z
LAST-MODIFIED:20240816T210354Z
UID:1334-1730138400-1730145600@berkeleycountygop.com
SUMMARY:Gateway Republican Woment's Club
DESCRIPTION:
URL:https://berkeleycountygop.com/event/gateway-republican-woments-club/
LOCATION:Hospice of the Panhandle\, 330 Hospice LN\, Kearneysville\, WV\, 25430\, United States
END:VEVENT
BEGIN:VEVENT
DTSTART;TZID=UTC:20241109T173000
DTEND;TZID=UTC:20241109T210000
DTSTAMP:20260422T221219
CREATED:20240816T211235Z
LAST-MODIFIED:20240816T211235Z
UID:1344-1731173400-1731186000@berkeleycountygop.com
SUMMARY:Eisenhower Dinner
DESCRIPTION:
URL:https://berkeleycountygop.com/event/eisenhower-dinner-2/
LOCATION:Heritage Hall\, 8539 Winchester Avenue\, Inwood\, WV\, United States
END:VEVENT
BEGIN:VEVENT
DTSTART;TZID=UTC:20241116T100000
DTEND;TZID=UTC:20241116T110000
DTSTAMP:20260422T221219
CREATED:20231201T193445Z
LAST-MODIFIED:20231202T211307Z
UID:701-1731751200-1731754800@berkeleycountygop.com
SUMMARY:Berkeley County Republican Executive Committee Meeting
DESCRIPTION:
URL:https://berkeleycountygop.com/event/berkeley-county-republican-executive-committee-meeting-11/
LOCATION:Eastern WV Regional Airport\, 170 Aviation Way\, Martinsburg\, WV\, 25405\, United States
END:VEVENT
BEGIN:VEVENT
DTSTART;TZID=UTC:20241121T183000
DTEND;TZID=UTC:20241121T200000
DTSTAMP:20260422T221219
CREATED:20231201T200002Z
LAST-MODIFIED:20231201T200002Z
UID:728-1732213800-1732219200@berkeleycountygop.com
SUMMARY:Berkeley County Republican Club
DESCRIPTION:
URL:https://berkeleycountygop.com/event/berkeley-county-republican-club-11/
LOCATION:Bedington Ruritan Club\, 3947 Williamsport Pike\, Martinsburg\, WV\, 25404\, United States
END:VEVENT
BEGIN:VEVENT
DTSTART;TZID=UTC:20241125T180000
DTEND;TZID=UTC:20241125T200000
DTSTAMP:20260422T221219
CREATED:20240816T210641Z
LAST-MODIFIED:20240816T210641Z
UID:1336-1732557600-1732564800@berkeleycountygop.com
SUMMARY:Gateway Republican Women's Club
DESCRIPTION:
URL:https://berkeleycountygop.com/event/gateway-republican-womens-club/
LOCATION:Hospice of the Panhandle\, 330 Hospice LN\, Kearneysville\, WV\, 25430\, United States
END:VEVENT
BEGIN:VEVENT
DTSTART;TZID=UTC:20241219T180000
DTEND;TZID=UTC:20241219T210000
DTSTAMP:20260422T221219
CREATED:20231201T200106Z
LAST-MODIFIED:20241209T191708Z
UID:730-1734631200-1734642000@berkeleycountygop.com
SUMMARY:Berkeley County Republican Club
DESCRIPTION:A Very Merry Christmas Party \nSee Website for details
URL:https://berkeleycountygop.com/event/berkeley-county-republican-club-12/
LOCATION:Bedington Ruritan Club\, 3947 Williamsport Pike\, Martinsburg\, WV\, 25404\, United States
END:VEVENT
BEGIN:VEVENT
DTSTART;TZID=UTC:20241230T180000
DTEND;TZID=UTC:20241230T200000
DTSTAMP:20260422T221219
CREATED:20240816T211053Z
LAST-MODIFIED:20240816T211053Z
UID:1342-1735581600-1735588800@berkeleycountygop.com
SUMMARY:Gateway Republican Women's Club
DESCRIPTION:
URL:https://berkeleycountygop.com/event/gateway-republican-womens-club-3/
LOCATION:Hospice of the Panhandle\, 330 Hospice LN\, Kearneysville\, WV\, 25430\, United States
END:VEVENT
BEGIN:VEVENT
DTSTART;TZID=UTC:20250111T130000
DTEND;TZID=UTC:20250111T160000
DTSTAMP:20260422T221219
CREATED:20241213T200926Z
LAST-MODIFIED:20241213T200926Z
UID:1620-1736600400-1736611200@berkeleycountygop.com
SUMMARY:Inaugural Celebration Tea hosted by Gateway Republican Women
DESCRIPTION:
URL:https://berkeleycountygop.com/event/inaugural-celebration-tea-hosted-by-gateway-republican-women/
LOCATION:Purple Iris\, 1956 WinchesterAve.\, Martinsburg\, WV\, 25405\, United States
END:VEVENT
BEGIN:VEVENT
DTSTART;TZID=UTC:20250119T100000
DTEND;TZID=UTC:20250119T110000
DTSTAMP:20260422T221219
CREATED:20241209T185431Z
LAST-MODIFIED:20241209T190511Z
UID:1605-1737280800-1737284400@berkeleycountygop.com
SUMMARY:Berkeley County Republican Executive Commitee
DESCRIPTION:
URL:https://berkeleycountygop.com/event/berkeley-county-republican-executive-commitee/
LOCATION:CNB Bank\, 1231 T.J. Jackson Drive\, Falling Waters\, WV\, 25419\, United States
END:VEVENT
BEGIN:VEVENT
DTSTART;TZID=UTC:20250315T100000
DTEND;TZID=UTC:20250315T110000
DTSTAMP:20260422T221219
CREATED:20250312T021230Z
LAST-MODIFIED:20250312T023813Z
UID:1725-1742032800-1742036400@berkeleycountygop.com
SUMMARY:Berkeley County Republican Executive Committee
DESCRIPTION:
URL:https://berkeleycountygop.com/event/berkeley-county-republican-executive-committee-2/
LOCATION:CNB Bank\, 1231 T.J. Jackson Drive\, Falling Waters\, WV\, 25419\, United States
END:VEVENT
BEGIN:VEVENT
DTSTART;TZID=UTC:20250315T130000
DTEND;TZID=UTC:20250315T160000
DTSTAMP:20260422T221219
CREATED:20250211T023049Z
LAST-MODIFIED:20250314T144605Z
UID:1695-1742043600-1742054400@berkeleycountygop.com
SUMMARY:Spring Time in DC | Join GWRWC for a special tea and paint afternoon
DESCRIPTION:Spring Time in DC  \nJoin GWRWC for a special tea  \nCost: $25 Includes lunch  \nWhen: Saturday\, March 15\, 2025  \n1-4pm \nWhere: The Purple Iris \n1956 Winchester Ave\, Martinsburg\, WV 25405  \nReservations & Prepayment required.  \nFor mailing address or questions\,  \nContact Krista Kniesler at  \n410-596-5511 or Kniesler@live.com
URL:https://berkeleycountygop.com/event/spring-time-in-dc-join-gwrwc-for-a-special-tea-and-paint-afternoon/
LOCATION:The Purple Iris 1956 Winchester Ave\, Martinsburg\, WV 25405\, The Purple Iris 1956 Winchester Ave\, Martinsburg\, WV\, 25405\, United States
END:VEVENT
BEGIN:VEVENT
DTSTART;TZID=UTC:20250320T183000
DTEND;TZID=UTC:20250320T200000
DTSTAMP:20260422T221219
CREATED:20250312T015619Z
LAST-MODIFIED:20250312T023650Z
UID:1708-1742495400-1742500800@berkeleycountygop.com
SUMMARY:Berkeley County Republican Club Meeting
DESCRIPTION:
URL:https://berkeleycountygop.com/event/berkeley-county-republican-club-meeting-3/
LOCATION:Bedington Ruritan Club\, 3947 Williamsport Pike\, Martinsburg\, WV\, 25404\, United States
END:VEVENT
BEGIN:VEVENT
DTSTART;TZID=UTC:20250417T183000
DTEND;TZID=UTC:20250417T200000
DTSTAMP:20260422T221219
CREATED:20250312T015751Z
LAST-MODIFIED:20250312T023605Z
UID:1710-1744914600-1744920000@berkeleycountygop.com
SUMMARY:Berkeley County Republican Club
DESCRIPTION:
URL:https://berkeleycountygop.com/event/berkeley-county-republican-club-13/
LOCATION:Bedington Ruritan Club\, 3947 Williamsport Pike\, Martinsburg\, WV\, 25404\, United States
END:VEVENT
BEGIN:VEVENT
DTSTART;TZID=UTC:20250419T100000
DTEND;TZID=UTC:20250419T110000
DTSTAMP:20260422T221219
CREATED:20250312T021322Z
LAST-MODIFIED:20250312T021322Z
UID:1727-1745056800-1745060400@berkeleycountygop.com
SUMMARY:Berkeley County Republican Executive Committee
DESCRIPTION:
URL:https://berkeleycountygop.com/event/berkeley-county-republican-executive-committee-3/
LOCATION:CNB Bank\, 1231 T.J. Jackson Drive\, Falling Waters\, WV\, 25419\, United States
END:VEVENT
BEGIN:VEVENT
DTSTART;TZID=UTC:20250425T170000
DTEND;TZID=UTC:20250425T210000
DTSTAMP:20260422T221219
CREATED:20250415T215227Z
LAST-MODIFIED:20250415T215300Z
UID:1792-1745600400-1745614800@berkeleycountygop.com
SUMMARY:Trump Victory Dinner
DESCRIPTION:
URL:https://berkeleycountygop.com/event/trump-victory-dinner/
LOCATION:The Holiday Inn  301 Foxcroft Ave.\, Martinsburg\,WV\, 301 Foxcroft Ave\, Martinsburg\, WV\, 25401\, United States
END:VEVENT
BEGIN:VEVENT
DTSTART;TZID=UTC:20250428T183000
DTEND;TZID=UTC:20250428T200000
DTSTAMP:20260422T221219
CREATED:20250315T170033Z
LAST-MODIFIED:20250315T170033Z
UID:1751-1745865000-1745870400@berkeleycountygop.com
SUMMARY:Gateway Republican Women Meeting
DESCRIPTION:Location of meeting to be determined. Please call Krista at 410.596.5511.
URL:https://berkeleycountygop.com/event/gateway-republican-women-meeting/
LOCATION:WV
ORGANIZER;CN="Krista Kniesler":MAILTO:kniesler@live.com
END:VEVENT
BEGIN:VEVENT
DTSTART;TZID=UTC:20250515T183000
DTEND;TZID=UTC:20250515T200000
DTSTAMP:20260422T221219
CREATED:20250312T015031Z
LAST-MODIFIED:20250312T023514Z
UID:1706-1747333800-1747339200@berkeleycountygop.com
SUMMARY:Berkeley County Republican Club Meeting
DESCRIPTION:
URL:https://berkeleycountygop.com/event/berkeley-county-republican-club-meeting-2/
LOCATION:Bedington Ruritan Club\, 3947 Williamsport Pike\, Martinsburg\, WV\, 25404\, United States
END:VEVENT
BEGIN:VEVENT
DTSTART;TZID=UTC:20250517T100000
DTEND;TZID=UTC:20250517T110000
DTSTAMP:20260422T221219
CREATED:20250312T021426Z
LAST-MODIFIED:20250312T021426Z
UID:1729-1747476000-1747479600@berkeleycountygop.com
SUMMARY:Berkeley County Republican Executive Committee
DESCRIPTION:
URL:https://berkeleycountygop.com/event/berkeley-county-republican-executive-committee-4/
LOCATION:CNB Bank\, 1231 T.J. Jackson Drive\, Falling Waters\, WV\, 25419\, United States
END:VEVENT
BEGIN:VEVENT
DTSTART;TZID=UTC:20250526T183000
DTEND;TZID=UTC:20250526T200000
DTSTAMP:20260422T221219
CREATED:20250315T170240Z
LAST-MODIFIED:20250315T170240Z
UID:1753-1748284200-1748289600@berkeleycountygop.com
SUMMARY:Gateway Republican Women Meeting
DESCRIPTION:Location of meeting to be determined. Call Krista at 410.596.5511.
URL:https://berkeleycountygop.com/event/gateway-republican-women-meeting-2/
LOCATION:WV
ORGANIZER;CN="Krista Kniesler":MAILTO:kniesler@live.com
END:VEVENT
BEGIN:VEVENT
DTSTART;TZID=UTC:20250531T120000
DTEND;TZID=UTC:20250531T190000
DTSTAMP:20260422T221219
CREATED:20250517T133812Z
LAST-MODIFIED:20250517T133812Z
UID:1883-1748692800-1748718000@berkeleycountygop.com
SUMMARY:Martinsburg Wine and Shine Fest
DESCRIPTION:
URL:https://berkeleycountygop.com/event/martinsburg-wine-and-shine-fest/
LOCATION:Boydsville\, 601 S Queen St\, Martinsburg\, WV\, United States
END:VEVENT
BEGIN:VEVENT
DTSTART;TZID=UTC:20250619T183000
DTEND;TZID=UTC:20250619T200000
DTSTAMP:20260422T221219
CREATED:20250312T015952Z
LAST-MODIFIED:20250312T023412Z
UID:1713-1750357800-1750363200@berkeleycountygop.com
SUMMARY:Berkeley County Republican Club
DESCRIPTION:
URL:https://berkeleycountygop.com/event/berkeley-county-republican-club-14/
LOCATION:Bedington Ruritan Club\, 3947 Williamsport Pike\, Martinsburg\, WV\, 25404\, United States
END:VEVENT
BEGIN:VEVENT
DTSTART;TZID=UTC:20250621T100000
DTEND;TZID=UTC:20250621T110000
DTSTAMP:20260422T221219
CREATED:20250312T021517Z
LAST-MODIFIED:20250312T021517Z
UID:1731-1750500000-1750503600@berkeleycountygop.com
SUMMARY:Berkeley County Republican Executive Committee
DESCRIPTION:
URL:https://berkeleycountygop.com/event/berkeley-county-republican-executive-committee-5/
LOCATION:CNB Bank\, 1231 T.J. Jackson Drive\, Falling Waters\, WV\, 25419\, United States
END:VEVENT
BEGIN:VEVENT
DTSTART;TZID=UTC:20250630T183000
DTEND;TZID=UTC:20250630T200000
DTSTAMP:20260422T221219
CREATED:20250621T134717Z
LAST-MODIFIED:20250621T134717Z
UID:1897-1751308200-1751313600@berkeleycountygop.com
SUMMARY:Gateway Republican Wormen's Club
DESCRIPTION:Guest speaker LT. Col. Gregory Kniesler(retired) \nHow US involvement in Iran since WWII has influence today’s conflict. \nTuesday June 30. 6:30 PM.   177 Savannah Dr.    Charles Town\, WV 25414 \nRSVP: Kniesler@live.com
URL:https://berkeleycountygop.com/event/gateway-republican-wormens-club/
LOCATION:177 Savannah Dr\, 177 Savannah Dr.\, Charles Town\, 25414\, United States
ORGANIZER;CN="Krista Kniesler":MAILTO:kniesler@live.com
END:VEVENT
END:VCALENDAR