BEGIN:VCALENDAR
VERSION:2.0
PRODID:-//Berkeley County Republican Club - ECPv6.15.20//NONSGML v1.0//EN
CALSCALE:GREGORIAN
METHOD:PUBLISH
X-WR-CALNAME:Berkeley County Republican Club
X-ORIGINAL-URL:https://berkeleycountygop.com
X-WR-CALDESC:Events for Berkeley County Republican Club
REFRESH-INTERVAL;VALUE=DURATION:PT1H
X-Robots-Tag:noindex
X-PUBLISHED-TTL:PT1H
BEGIN:VTIMEZONE
TZID:UTC
BEGIN:STANDARD
TZOFFSETFROM:+0000
TZOFFSETTO:+0000
TZNAME:UTC
DTSTART:20240101T000000
END:STANDARD
END:VTIMEZONE
BEGIN:VEVENT
DTSTART;TZID=UTC:20251018T100000
DTEND;TZID=UTC:20251018T120000
DTSTAMP:20260422T020202
CREATED:20250621T170604Z
LAST-MODIFIED:20250621T170604Z
UID:1928-1760781600-1760788800@berkeleycountygop.com
SUMMARY:Apple Harvest Parade
DESCRIPTION:In Martinsburg\, WV
URL:https://berkeleycountygop.com/event/apple-harvest-parade/
LOCATION:Downtown Martinsburg\, WV
END:VEVENT
BEGIN:VEVENT
DTSTART;TZID=UTC:20251018T100000
DTEND;TZID=UTC:20251018T110000
DTSTAMP:20260422T020202
CREATED:20250312T022110Z
LAST-MODIFIED:20250312T022110Z
UID:1741-1760781600-1760785200@berkeleycountygop.com
SUMMARY:Berkeley County Republican Executive Committee
DESCRIPTION:
URL:https://berkeleycountygop.com/event/berkeley-county-republican-executive-committee-10/
LOCATION:CNB Bank\, 1231 T.J. Jackson Drive\, Falling Waters\, WV\, 25419\, United States
END:VEVENT
BEGIN:VEVENT
DTSTART;TZID=UTC:20251016T183000
DTEND;TZID=UTC:20251016T200000
DTSTAMP:20260422T020202
CREATED:20250312T020514Z
LAST-MODIFIED:20250312T020514Z
UID:1721-1760639400-1760644800@berkeleycountygop.com
SUMMARY:Berkeley County Republican Club Meeting
DESCRIPTION:
URL:https://berkeleycountygop.com/event/berkeley-county-republican-club-meeting-6/
LOCATION:Bedington Ruritan Club\, 3947 Williamsport Pike\, Martinsburg\, WV\, 25404\, United States
END:VEVENT
BEGIN:VEVENT
DTSTART;TZID=UTC:20251014T183000
DTEND;TZID=UTC:20251014T210000
DTSTAMP:20260422T020202
CREATED:20251001T195827Z
LAST-MODIFIED:20251001T195827Z
UID:2050-1760466600-1760475600@berkeleycountygop.com
SUMMARY:Berkeley County Chapter of West Virginians for Life
DESCRIPTION:Meeting at the Independent Bible Church in the Old Fellowship Hall. \nCall Pam Brush at 304.261.3816
URL:https://berkeleycountygop.com/event/berkeley-county-chapter-of-west-virginians-for-life/
LOCATION:Independent Bible Church\, 2306 Hedgesville RD\, Martinsburg\, WV\, 25404\, United States
END:VEVENT
BEGIN:VEVENT
DTSTART;TZID=UTC:20251010T120000
DTEND;TZID=UTC:20251010T130000
DTSTAMP:20260422T020202
CREATED:20251001T195159Z
LAST-MODIFIED:20251001T195159Z
UID:2048-1760097600-1760101200@berkeleycountygop.com
SUMMARY:Eastern Panhandle Business Association Luncheon
DESCRIPTION:at the Purple Iris \nContact Don Forsht at dhforsht@gmail.com to make a reservations.
URL:https://berkeleycountygop.com/event/eastern-panhandle-business-association-luncheon/
LOCATION:Purple Iris\, 1956 WinchesterAve.\, Martinsburg\, WV\, 25405\, United States
END:VEVENT
BEGIN:VEVENT
DTSTART;TZID=UTC:20251006T190000
DTEND;TZID=UTC:20251006T200000
DTSTAMP:20260422T020202
CREATED:20250913T183820Z
LAST-MODIFIED:20250913T183820Z
UID:2022-1759777200-1759780800@berkeleycountygop.com
SUMMARY:Center right Coalition
DESCRIPTION:If interested\, contact John Overington at 304.274.1791. This meeting is a tele-meeting. John has a variety of speakers from around the state and nationally.
URL:https://berkeleycountygop.com/event/center-right-coalition/
END:VEVENT
BEGIN:VEVENT
DTSTART;TZID=UTC:20251004T093000
DTEND;TZID=UTC:20251004T113000
DTSTAMP:20260422T020202
CREATED:20251001T194818Z
LAST-MODIFIED:20251001T194848Z
UID:2045-1759570200-1759577400@berkeleycountygop.com
SUMMARY:Concerned Women for America meeting
DESCRIPTION:Brunch at 9:30 am \nHome of Betty Dehaven \n304.995.4739 \nbettydehaven@live.com
URL:https://berkeleycountygop.com/event/concerned-woment-for-america-meeting/
ORGANIZER;CN="Betty DeHaven":MAILTO:bettydehaven@live.com
END:VEVENT
BEGIN:VEVENT
DTSTART;TZID=UTC:20250929T183000
DTEND;TZID=UTC:20250929T200000
DTSTAMP:20260422T020202
CREATED:20250621T162245Z
LAST-MODIFIED:20250621T162245Z
UID:1904-1759170600-1759176000@berkeleycountygop.com
SUMMARY:Gateway Republican Women's Club
DESCRIPTION:Monthly meeting \nPlace TBD
URL:https://berkeleycountygop.com/event/gateway-republican-womens-club-4/
LOCATION:TBD
ORGANIZER;CN="Krista Kniesler":MAILTO:kniesler@live.com
END:VEVENT
BEGIN:VEVENT
DTSTART;TZID=UTC:20250921T190000
DTEND;TZID=UTC:20250921T210000
DTSTAMP:20260422T020202
CREATED:20250918T205622Z
LAST-MODIFIED:20250919T204524Z
UID:2031-1758481200-1758488400@berkeleycountygop.com
SUMMARY:Berkekey County Vigil For Charlie Kirk
DESCRIPTION:
URL:https://berkeleycountygop.com/event/berkekey-county-vigil-for-charley-kirk/
LOCATION:War Memorial Park  Main Pavillion\, North Tennesee Ave\, Martinsburg\, WV\, 25401\, United States
END:VEVENT
BEGIN:VEVENT
DTSTART;TZID=UTC:20250920T100000
DTEND;TZID=UTC:20250920T110000
DTSTAMP:20260422T020202
CREATED:20250312T022017Z
LAST-MODIFIED:20250312T022017Z
UID:1739-1758362400-1758366000@berkeleycountygop.com
SUMMARY:Berkeley County Republican Executive Committee
DESCRIPTION:
URL:https://berkeleycountygop.com/event/berkeley-county-republican-executive-committee-9/
LOCATION:CNB Bank\, 1231 T.J. Jackson Drive\, Falling Waters\, WV\, 25419\, United States
END:VEVENT
BEGIN:VEVENT
DTSTART;TZID=UTC:20250918T183000
DTEND;TZID=UTC:20250918T200000
DTSTAMP:20260422T020202
CREATED:20250312T020401Z
LAST-MODIFIED:20250312T020401Z
UID:1719-1758220200-1758225600@berkeleycountygop.com
SUMMARY:Berkeley County Republican Club Meeting
DESCRIPTION:
URL:https://berkeleycountygop.com/event/berkeley-county-republican-club-meeting-5/
LOCATION:Bedington Ruritan Club\, 3947 Williamsport Pike\, Martinsburg\, WV\, 25404\, United States
END:VEVENT
BEGIN:VEVENT
DTSTART;TZID=UTC:20250821T183000
DTEND;TZID=UTC:20250821T200000
DTSTAMP:20260422T020202
CREATED:20250312T020242Z
LAST-MODIFIED:20250312T020242Z
UID:1717-1755801000-1755806400@berkeleycountygop.com
SUMMARY:Berkeley County Republican Club Meeting
DESCRIPTION:
URL:https://berkeleycountygop.com/event/berkeley-county-republican-club-meeting-4/
LOCATION:Bedington Ruritan Club\, 3947 Williamsport Pike\, Martinsburg\, WV\, 25404\, United States
END:VEVENT
BEGIN:VEVENT
DTSTART;TZID=UTC:20250816T150000
DTEND;TZID=UTC:20250816T180000
DTSTAMP:20260422T020202
CREATED:20250621T162004Z
LAST-MODIFIED:20250621T162004Z
UID:1901-1755356400-1755367200@berkeleycountygop.com
SUMMARY:Gateway Women's Club sponsors Reagan Picnic
DESCRIPTION:Reagon Picnic Sponsored by Gateway Republican Women’s Club \nAugust 16\,2025 at War Memorial Park Main Pavillion \n3-6 PM \nCosts: $15 / ticket \nRSVP: Kniesler@live.com \n 
URL:https://berkeleycountygop.com/event/gateway-womens-club-sponsors-reagan-picnic/
LOCATION:War Memorial Park  Main Pavillion\, North Tennesee Ave\, Martinsburg\, WV\, 25401\, United States
ORGANIZER;CN="Krista Kniesler":MAILTO:kniesler@live.com
END:VEVENT
BEGIN:VEVENT
DTSTART;TZID=UTC:20250802T170000
DTEND;TZID=UTC:20250809T220000
DTSTAMP:20260422T020202
CREATED:20250621T164235Z
LAST-MODIFIED:20250621T164235Z
UID:1916-1754154000-1754776800@berkeleycountygop.com
SUMMARY:Berkeley County Youth Fair
DESCRIPTION:Berkeley County Youth Fair Booth sponsored by BCRC\, BCREC and Gateway Women’s Club \nDuring the County Fair \nAugust 2-9 \nVolunteers needed to staff booth from 5:00-10:00 PM in two shifts \nContact Betty DeHaven at bettydehaven@live.com.  to volunteer.
URL:https://berkeleycountygop.com/event/berkeley-county-youth-fair/
LOCATION:Fairgrounds of Berkeley County\, 2419 Golf Course Rd\, Martinsburg\, WV\, 25405\, United States
ORGANIZER;CN="Betty DeHaven":MAILTO:bettydehaven@live.com
END:VEVENT
BEGIN:VEVENT
DTSTART;TZID=UTC:20250719T100000
DTEND;TZID=UTC:20250719T110000
DTSTAMP:20260422T020202
CREATED:20250312T021729Z
LAST-MODIFIED:20250312T021729Z
UID:1735-1752919200-1752922800@berkeleycountygop.com
SUMMARY:Berkeley County Republican Executive Committee
DESCRIPTION:
URL:https://berkeleycountygop.com/event/berkeley-county-republican-executive-committee-7/
LOCATION:CNB Bank\, 1231 T.J. Jackson Drive\, Falling Waters\, WV\, 25419\, United States
END:VEVENT
BEGIN:VEVENT
DTSTART;TZID=UTC:20250719T100000
DTEND;TZID=UTC:20250719T110000
DTSTAMP:20260422T020202
CREATED:20250312T021626Z
LAST-MODIFIED:20250312T021626Z
UID:1733-1752919200-1752922800@berkeleycountygop.com
SUMMARY:Berkeley County Republican Executive Committee
DESCRIPTION:
URL:https://berkeleycountygop.com/event/berkeley-county-republican-executive-committee-6/
LOCATION:CNB Bank\, 1231 T.J. Jackson Drive\, Falling Waters\, WV\, 25419\, United States
END:VEVENT
BEGIN:VEVENT
DTSTART;TZID=UTC:20250717T183000
DTEND;TZID=UTC:20250717T200000
DTSTAMP:20260422T020202
CREATED:20250312T020114Z
LAST-MODIFIED:20250312T023311Z
UID:1715-1752777000-1752782400@berkeleycountygop.com
SUMMARY:Berkeley County Republican Club
DESCRIPTION:
URL:https://berkeleycountygop.com/event/berkeley-county-republican-club-15/
LOCATION:Bedington Ruritan Club\, 3947 Williamsport Pike\, Martinsburg\, WV\, 25404\, United States
END:VEVENT
BEGIN:VEVENT
DTSTART;TZID=UTC:20250704T110000
DTEND;TZID=UTC:20250704T120000
DTSTAMP:20260422T020202
CREATED:20250621T170349Z
LAST-MODIFIED:20250621T170349Z
UID:1925-1751626800-1751630400@berkeleycountygop.com
SUMMARY:4th of July Parade
DESCRIPTION:4th of July Parade \nShepherdstown\, WV \n 
URL:https://berkeleycountygop.com/event/4th-of-july-parade/
LOCATION:Downtown Shepardstown\, WV
END:VEVENT
BEGIN:VEVENT
DTSTART;TZID=UTC:20250630T183000
DTEND;TZID=UTC:20250630T200000
DTSTAMP:20260422T020202
CREATED:20250621T134717Z
LAST-MODIFIED:20250621T134717Z
UID:1897-1751308200-1751313600@berkeleycountygop.com
SUMMARY:Gateway Republican Wormen's Club
DESCRIPTION:Guest speaker LT. Col. Gregory Kniesler(retired) \nHow US involvement in Iran since WWII has influence today’s conflict. \nTuesday June 30. 6:30 PM.   177 Savannah Dr.    Charles Town\, WV 25414 \nRSVP: Kniesler@live.com
URL:https://berkeleycountygop.com/event/gateway-republican-wormens-club/
LOCATION:177 Savannah Dr\, 177 Savannah Dr.\, Charles Town\, 25414\, United States
ORGANIZER;CN="Krista Kniesler":MAILTO:kniesler@live.com
END:VEVENT
BEGIN:VEVENT
DTSTART;TZID=UTC:20250621T100000
DTEND;TZID=UTC:20250621T110000
DTSTAMP:20260422T020202
CREATED:20250312T021517Z
LAST-MODIFIED:20250312T021517Z
UID:1731-1750500000-1750503600@berkeleycountygop.com
SUMMARY:Berkeley County Republican Executive Committee
DESCRIPTION:
URL:https://berkeleycountygop.com/event/berkeley-county-republican-executive-committee-5/
LOCATION:CNB Bank\, 1231 T.J. Jackson Drive\, Falling Waters\, WV\, 25419\, United States
END:VEVENT
BEGIN:VEVENT
DTSTART;TZID=UTC:20250619T183000
DTEND;TZID=UTC:20250619T200000
DTSTAMP:20260422T020202
CREATED:20250312T015952Z
LAST-MODIFIED:20250312T023412Z
UID:1713-1750357800-1750363200@berkeleycountygop.com
SUMMARY:Berkeley County Republican Club
DESCRIPTION:
URL:https://berkeleycountygop.com/event/berkeley-county-republican-club-14/
LOCATION:Bedington Ruritan Club\, 3947 Williamsport Pike\, Martinsburg\, WV\, 25404\, United States
END:VEVENT
BEGIN:VEVENT
DTSTART;TZID=UTC:20250531T120000
DTEND;TZID=UTC:20250531T190000
DTSTAMP:20260422T020203
CREATED:20250517T133812Z
LAST-MODIFIED:20250517T133812Z
UID:1883-1748692800-1748718000@berkeleycountygop.com
SUMMARY:Martinsburg Wine and Shine Fest
DESCRIPTION:
URL:https://berkeleycountygop.com/event/martinsburg-wine-and-shine-fest/
LOCATION:Boydsville\, 601 S Queen St\, Martinsburg\, WV\, United States
END:VEVENT
BEGIN:VEVENT
DTSTART;TZID=UTC:20250526T183000
DTEND;TZID=UTC:20250526T200000
DTSTAMP:20260422T020203
CREATED:20250315T170240Z
LAST-MODIFIED:20250315T170240Z
UID:1753-1748284200-1748289600@berkeleycountygop.com
SUMMARY:Gateway Republican Women Meeting
DESCRIPTION:Location of meeting to be determined. Call Krista at 410.596.5511.
URL:https://berkeleycountygop.com/event/gateway-republican-women-meeting-2/
ORGANIZER;CN="Krista Kniesler":MAILTO:kniesler@live.com
END:VEVENT
BEGIN:VEVENT
DTSTART;TZID=UTC:20250517T100000
DTEND;TZID=UTC:20250517T110000
DTSTAMP:20260422T020203
CREATED:20250312T021426Z
LAST-MODIFIED:20250312T021426Z
UID:1729-1747476000-1747479600@berkeleycountygop.com
SUMMARY:Berkeley County Republican Executive Committee
DESCRIPTION:
URL:https://berkeleycountygop.com/event/berkeley-county-republican-executive-committee-4/
LOCATION:CNB Bank\, 1231 T.J. Jackson Drive\, Falling Waters\, WV\, 25419\, United States
END:VEVENT
BEGIN:VEVENT
DTSTART;TZID=UTC:20250515T183000
DTEND;TZID=UTC:20250515T200000
DTSTAMP:20260422T020203
CREATED:20250312T015031Z
LAST-MODIFIED:20250312T023514Z
UID:1706-1747333800-1747339200@berkeleycountygop.com
SUMMARY:Berkeley County Republican Club Meeting
DESCRIPTION:
URL:https://berkeleycountygop.com/event/berkeley-county-republican-club-meeting-2/
LOCATION:Bedington Ruritan Club\, 3947 Williamsport Pike\, Martinsburg\, WV\, 25404\, United States
END:VEVENT
BEGIN:VEVENT
DTSTART;TZID=UTC:20250428T183000
DTEND;TZID=UTC:20250428T200000
DTSTAMP:20260422T020203
CREATED:20250315T170033Z
LAST-MODIFIED:20250315T170033Z
UID:1751-1745865000-1745870400@berkeleycountygop.com
SUMMARY:Gateway Republican Women Meeting
DESCRIPTION:Location of meeting to be determined. Please call Krista at 410.596.5511.
URL:https://berkeleycountygop.com/event/gateway-republican-women-meeting/
ORGANIZER;CN="Krista Kniesler":MAILTO:kniesler@live.com
END:VEVENT
BEGIN:VEVENT
DTSTART;TZID=UTC:20250425T170000
DTEND;TZID=UTC:20250425T210000
DTSTAMP:20260422T020203
CREATED:20250415T215227Z
LAST-MODIFIED:20250415T215300Z
UID:1792-1745600400-1745614800@berkeleycountygop.com
SUMMARY:Trump Victory Dinner
DESCRIPTION:
URL:https://berkeleycountygop.com/event/trump-victory-dinner/
LOCATION:The Holiday Inn  301 Foxcroft Ave.\, Martinsburg\,WV\, 301 Foxcroft Ave\, Martinsburg\, WV\, 25401\, United States
END:VEVENT
BEGIN:VEVENT
DTSTART;TZID=UTC:20250419T100000
DTEND;TZID=UTC:20250419T110000
DTSTAMP:20260422T020203
CREATED:20250312T021322Z
LAST-MODIFIED:20250312T021322Z
UID:1727-1745056800-1745060400@berkeleycountygop.com
SUMMARY:Berkeley County Republican Executive Committee
DESCRIPTION:
URL:https://berkeleycountygop.com/event/berkeley-county-republican-executive-committee-3/
LOCATION:CNB Bank\, 1231 T.J. Jackson Drive\, Falling Waters\, WV\, 25419\, United States
END:VEVENT
BEGIN:VEVENT
DTSTART;TZID=UTC:20250417T183000
DTEND;TZID=UTC:20250417T200000
DTSTAMP:20260422T020203
CREATED:20250312T015751Z
LAST-MODIFIED:20250312T023605Z
UID:1710-1744914600-1744920000@berkeleycountygop.com
SUMMARY:Berkeley County Republican Club
DESCRIPTION:
URL:https://berkeleycountygop.com/event/berkeley-county-republican-club-13/
LOCATION:Bedington Ruritan Club\, 3947 Williamsport Pike\, Martinsburg\, WV\, 25404\, United States
END:VEVENT
BEGIN:VEVENT
DTSTART;TZID=UTC:20250320T183000
DTEND;TZID=UTC:20250320T200000
DTSTAMP:20260422T020203
CREATED:20250312T015619Z
LAST-MODIFIED:20250312T023650Z
UID:1708-1742495400-1742500800@berkeleycountygop.com
SUMMARY:Berkeley County Republican Club Meeting
DESCRIPTION:
URL:https://berkeleycountygop.com/event/berkeley-county-republican-club-meeting-3/
LOCATION:Bedington Ruritan Club\, 3947 Williamsport Pike\, Martinsburg\, WV\, 25404\, United States
END:VEVENT
END:VCALENDAR