BEGIN:VCALENDAR
VERSION:2.0
PRODID:-//Berkeley County Republican Club - ECPv6.15.20//NONSGML v1.0//EN
CALSCALE:GREGORIAN
METHOD:PUBLISH
X-WR-CALNAME:Berkeley County Republican Club
X-ORIGINAL-URL:https://berkeleycountygop.com
X-WR-CALDESC:Events for Berkeley County Republican Club
REFRESH-INTERVAL;VALUE=DURATION:PT1H
X-Robots-Tag:noindex
X-PUBLISHED-TTL:PT1H
BEGIN:VTIMEZONE
TZID:UTC
BEGIN:STANDARD
TZOFFSETFROM:+0000
TZOFFSETTO:+0000
TZNAME:UTC
DTSTART:20220101T000000
END:STANDARD
END:VTIMEZONE
BEGIN:VEVENT
DTSTART;TZID=UTC:20230328T183000
DTEND;TZID=UTC:20230328T200000
DTSTAMP:20260423T092820
CREATED:20230309T034029Z
LAST-MODIFIED:20230309T034202Z
UID:126-1680028200-1680033600@berkeleycountygop.com
SUMMARY:Gateway Women March Meeting
DESCRIPTION:Gateway Republican is an affiliate of the West Virginia Federation of Republican Women (WVFRW) and with the National Federation of Republican Women (NFRW) and became affiliated in 2005. Gateway covers the counties of Jefferson\, Berkeley and Morgan counties of West Virginia. \nThe members welcome all new members\, who are registered Republican\, and we also welcome men who can become Associate Members but have no voting privileges. \nThe meetings are held on the last Monday of the Month at 6:30 p.m.  at Hospice of the Panhandle Meeting Room\, 330 Kearneysville Pike\, Kearneysville\, WV 25430. Gateway meets at least eight times a year. \nThe organization is active in the community with local candidates every election. \nIf this organization interests you then please contact Sherry Rowlett slrowlett@aol.com.
URL:https://berkeleycountygop.com/event/gateway-republican-women/
LOCATION:Gateway Republican Women\, 330 Kearneysville Pike\, Kearneysville\, WV\, 25430\, United States
ORGANIZER;CN="Sherry Rowlett":MAILTO:slrowlett@aol.com
END:VEVENT
END:VCALENDAR