BEGIN:VCALENDAR
VERSION:2.0
PRODID:-//Berkeley County Republican Club - ECPv6.15.20//NONSGML v1.0//EN
CALSCALE:GREGORIAN
METHOD:PUBLISH
X-WR-CALNAME:Berkeley County Republican Club
X-ORIGINAL-URL:https://berkeleycountygop.com
X-WR-CALDESC:Events for Berkeley County Republican Club
REFRESH-INTERVAL;VALUE=DURATION:PT1H
X-Robots-Tag:noindex
X-PUBLISHED-TTL:PT1H
BEGIN:VTIMEZONE
TZID:UTC
BEGIN:STANDARD
TZOFFSETFROM:+0000
TZOFFSETTO:+0000
TZNAME:UTC
DTSTART:20250101T000000
END:STANDARD
END:VTIMEZONE
BEGIN:VEVENT
DTSTART;TZID=UTC:20261217T183000
DTEND;TZID=UTC:20261217T213000
DTSTAMP:20260422T014235
CREATED:20251229T210056Z
LAST-MODIFIED:20251229T210056Z
UID:2190-1797532200-1797543000@berkeleycountygop.com
SUMMARY:Berkeley County Republican Executive Committee
DESCRIPTION:Executive Committee joins BCRC for the Holiday Christmas Party.
URL:https://berkeleycountygop.com/event/berkeley-county-republican-executive-committee-22/
LOCATION:Bedington Ruritan Club\, 3947 Williamsport Pike\, Martinsburg\, WV\, 25404\, United States
END:VEVENT
END:VCALENDAR