BEGIN:VCALENDAR
VERSION:2.0
PRODID:-//Berkeley County Republican Club - ECPv6.15.20//NONSGML v1.0//EN
CALSCALE:GREGORIAN
METHOD:PUBLISH
X-WR-CALNAME:Berkeley County Republican Club
X-ORIGINAL-URL:https://berkeleycountygop.com
X-WR-CALDESC:Events for Berkeley County Republican Club
REFRESH-INTERVAL;VALUE=DURATION:PT1H
X-Robots-Tag:noindex
X-PUBLISHED-TTL:PT1H
BEGIN:VTIMEZONE
TZID:UTC
BEGIN:STANDARD
TZOFFSETFROM:+0000
TZOFFSETTO:+0000
TZNAME:UTC
DTSTART:20220101T000000
END:STANDARD
END:VTIMEZONE
BEGIN:VEVENT
DTSTART;TZID=UTC:20230916T100000
DTEND;TZID=UTC:20230916T110000
DTSTAMP:20260423T153206
CREATED:20230503T230214Z
LAST-MODIFIED:20230503T230345Z
UID:288-1694858400-1694862000@berkeleycountygop.com
SUMMARY:Berkeley County Republican Executive Committee monthly meeting
DESCRIPTION:September 16 @ 10:00 am – 11:00 am\n\n\nBerkeley County Republican Executive Committee monthly member meeting \nEastern WV Regional Airport 170 Aviation Way Martinsburg\, WV 25405
URL:https://berkeleycountygop.com/event/berkeley-county-republican-executive-committee-monthly-meeting-5/
LOCATION:WV
END:VEVENT
BEGIN:VEVENT
DTSTART;TZID=UTC:20230916T180000
DTEND;TZID=UTC:20230916T210000
DTSTAMP:20260423T153206
CREATED:20230515T151759Z
LAST-MODIFIED:20230907T162025Z
UID:332-1694887200-1694898000@berkeleycountygop.com
SUMMARY:BCRC and BCREC's Eisenhower Dinner
DESCRIPTION:Eisenhower Dinner\nSaturday\, September 16thHeritage Hall\, Inwood • 5 – 9 pm \nReception Hosted byBerkeley County Republican Executive Committee: 5-6 pm  \n Ticket Price: $50 (includes one free drink ticket) \nBerkeley County Republican Club Dinner: 6:00 pm – 9:00 pm – Cash Bar \n Ticket Price: $75 a person or two for $135 \nBasket raffle and 50/50 Pull \n			\n				\n				\n				\n				\n				\n			\n				\n				\n				\n				\n				Sponsor Opportunities \nGold Sponsor – $800 \nEisenhower Dinner – Golf Tournament Signage –  \nWebsite presence – 2 Tickets to Dinner – 1 Individual Golfer \n Silver Sponsor Trifecta – $500 \nEisenhower Dinner – Eisenhower Golf Tournament – Reagan Picnic Signage –  \nWebsite Presence – 1 Dinner Ticket – 2 Reagan Picnic Tickets \nBronze Sponsor – $250 \nEisenhower Dinner – Eisenhower Golf Tournament Signage – Website Presence  \nContact: Lisa White 240.464.1608 or whtlisa59@aol.com \n			\n				\n				\n				\n				\n				Sponsorships & Tickets\n			\n				\n				\n				\n				\n				\n\n	Eisenhower Dinner 2 Tickets for $135\n	$135.00\n\n\n	Eisenhower Dinner Ticket\n	$75.00\n\n\n	Eisenhower Reception Ticket\n	$50.00
URL:https://berkeleycountygop.com/event/eisenhower-dinner/
LOCATION:Heritage Hall\, 8539 Winchester Avenue\, Inwood\, WV\, United States
END:VEVENT
BEGIN:VEVENT
DTSTART;VALUE=DATE:20230929
DTEND;VALUE=DATE:20230930
DTSTAMP:20260423T153206
CREATED:20230526T112715Z
LAST-MODIFIED:20230720T193005Z
UID:355-1695945600-1696031999@berkeleycountygop.com
SUMMARY:Eisenhower Golf Tournament
DESCRIPTION:Platinum Sponsorship 3rd Annual Eisenhower GOLF Tournament\n	$2\,500.00\n\n\n	Gold Sponsorship 3rd Annual Eisenhower GOLF Tournament\n	$1\,500.00\n\n\n	Silver Sponsorship 3rd Annual Eisenhower GOLF Tournament\n	$1\,000.00\n\n\n	Team Registration 3rd Annual Eisenhower GOLF Tournament\n	$440.00\n\n\n	Hole Sponsorship 3rd Annual Eisenhower GOLF Tournament\n	$200.00\n\n\n	Individual Golfer – 3rd Annual Eisenhower GOLF Tournament\n	$110.00\n\n\n\n			\n				TICKETS
URL:https://berkeleycountygop.com/event/eisenhower-golf-tournament/
LOCATION:The Woods Golf Course\, 109 Clubhouse Ridge\, Hedgesville\, WV\, 25427\, United States
END:VEVENT
END:VCALENDAR