BEGIN:VCALENDAR
VERSION:2.0
PRODID:-//Berkeley County Republican Club - ECPv6.15.20//NONSGML v1.0//EN
CALSCALE:GREGORIAN
METHOD:PUBLISH
X-ORIGINAL-URL:https://berkeleycountygop.com
X-WR-CALDESC:Events for Berkeley County Republican Club
REFRESH-INTERVAL;VALUE=DURATION:PT1H
X-Robots-Tag:noindex
X-PUBLISHED-TTL:PT1H
BEGIN:VTIMEZONE
TZID:UTC
BEGIN:STANDARD
TZOFFSETFROM:+0000
TZOFFSETTO:+0000
TZNAME:UTC
DTSTART:20230101T000000
END:STANDARD
END:VTIMEZONE
BEGIN:VEVENT
DTSTART;TZID=UTC:20240418T183000
DTEND;TZID=UTC:20240418T200000
DTSTAMP:20260423T044302
CREATED:20231201T195404Z
LAST-MODIFIED:20231201T195404Z
UID:714-1713465000-1713470400@berkeleycountygop.com
SUMMARY:Berkeley County Republican Club
DESCRIPTION:
URL:https://berkeleycountygop.com/event/berkeley-county-republican-club-4/
LOCATION:Bedington Ruritan Club\, 3947 Williamsport Pike\, Martinsburg\, WV\, 25404\, United States
END:VEVENT
BEGIN:VEVENT
DTSTART;TZID=UTC:20240420T100000
DTEND;TZID=UTC:20240420T110000
DTSTAMP:20260423T044302
CREATED:20231201T192354Z
LAST-MODIFIED:20231202T211822Z
UID:687-1713607200-1713610800@berkeleycountygop.com
SUMMARY:Berkeley County Republican Executive Committee Meeting
DESCRIPTION:
URL:https://berkeleycountygop.com/event/berkeley-county-republican-executive-committee-meeting-4/
LOCATION:Eastern WV Regional Airport\, 170 Aviation Way\, Martinsburg\, WV\, 25405\, United States
END:VEVENT
BEGIN:VEVENT
DTSTART;TZID=UTC:20240420T163000
DTEND;TZID=UTC:20240420T210000
DTSTAMP:20260423T044302
CREATED:20240206T040136Z
LAST-MODIFIED:20240304T202459Z
UID:822-1713630600-1713646800@berkeleycountygop.com
SUMMARY:2024 Lincoln Dinner
DESCRIPTION:2024 Lincoln Dinner \nHosted by:Berkeley County Republican Club &Jefferson County Republican Executive Committee  \nApril 20\, 2024Heritage Hall – Inwood\, WVPrimary Candidate Meet & Greet Reception 4:30 – 6pmDinner 6 – 9pmSaturday\, April 20\, 2024Heritage Hall – Inwood\, WV  \nKeynote SpeakerLt. Col Allen West  \nLt. Col. Allen West (Ret) is a Christian constitutional conservative\, combat veteran with deployments to Kuwait and Iraq\, and former member of the US Congress (FL-22) 2010-2012. He was a leader of the Tea Party movement and a sharp critic of Governor Abbott’s Covid-19 health restrictions while serving as chair of the Texas Republican Party 2020-2021. In 2022\, he ran for Governor of Texas. \nPurchase tickets by April 17th • $75 per person│2 for $125(Reception is included in price of Dinner) \nFor more information call: Lisa White (240) 464-1608  Paula Dougherty (301) 639-5531  \n			\n			\n				\n				\n				\n				\n			\n				\n				\n				\n				\n				\n				\n				\n				\n				\n				\n				\n\n	2024 Lincoln Dinner – Single Ticket\n	$75.00\n\n\n	2024 Lincoln Dinner – 2 Tickets for $125\n	$125.00
URL:https://berkeleycountygop.com/event/2024-lincoln-dinner/
LOCATION:heritage hall inwood\, wv\, 8539 Winchester Ave\, Inwood\,\, WV\, 25428\, United States
CATEGORIES:2024 Lincoln Dinner
END:VEVENT
BEGIN:VEVENT
DTSTART;TZID=UTC:20240429T183000
DTEND;TZID=UTC:20240429T200000
DTSTAMP:20260423T044302
CREATED:20240219T222258Z
LAST-MODIFIED:20240219T222258Z
UID:1048-1714415400-1714420800@berkeleycountygop.com
SUMMARY:Candidate Forums sponsored by Gateway Republican Women's Club
DESCRIPTION:
URL:https://berkeleycountygop.com/event/candidate-forums-sponsored-by-gateway-republican-womens-club-3/
LOCATION:WV
END:VEVENT
BEGIN:VEVENT
DTSTART;TZID=UTC:20240429T183000
DTEND;TZID=UTC:20240429T203000
DTSTAMP:20260423T044302
CREATED:20240115T132154Z
LAST-MODIFIED:20240115T132154Z
UID:754-1714415400-1714422600@berkeleycountygop.com
SUMMARY:Gateway Republican Women
DESCRIPTION:Membership is granted to all women who are registered Republicans. Dues are $35 per year. Men are encouraged to join as Associate Members for $10 per year and who are registered Republicans.
URL:https://berkeleycountygop.com/event/gateway-republican-women-5/
LOCATION:Hospice of the Panhandle\, 330 Hospice LN\, Kearneysville\, WV\, 25430\, United States
END:VEVENT
END:VCALENDAR