BEGIN:VCALENDAR
VERSION:2.0
PRODID:-//Berkeley County Republican Club - ECPv6.15.20//NONSGML v1.0//EN
CALSCALE:GREGORIAN
METHOD:PUBLISH
X-WR-CALNAME:Berkeley County Republican Club
X-ORIGINAL-URL:https://berkeleycountygop.com
X-WR-CALDESC:Events for Berkeley County Republican Club
REFRESH-INTERVAL;VALUE=DURATION:PT1H
X-Robots-Tag:noindex
X-PUBLISHED-TTL:PT1H
BEGIN:VTIMEZONE
TZID:UTC
BEGIN:STANDARD
TZOFFSETFROM:+0000
TZOFFSETTO:+0000
TZNAME:UTC
DTSTART:20240101T000000
END:STANDARD
END:VTIMEZONE
BEGIN:VEVENT
DTSTART;TZID=UTC:20251103T190000
DTEND;TZID=UTC:20251103T200000
DTSTAMP:20260421T212518
CREATED:20250913T183930Z
LAST-MODIFIED:20250913T183930Z
UID:2025-1762196400-1762200000@berkeleycountygop.com
SUMMARY:Center Right Coalition
DESCRIPTION:If interested\, contact John Overington at 304.274.1791. This meeting is a tele-meeting. John has a variety of speakers from around the state and nationally.
URL:https://berkeleycountygop.com/event/center-right-coalition-2/
LOCATION:WV
END:VEVENT
BEGIN:VEVENT
DTSTART;TZID=UTC:20251108T170000
DTEND;TZID=UTC:20251108T220000
DTSTAMP:20260421T212518
CREATED:20250621T164839Z
LAST-MODIFIED:20251011T140604Z
UID:1922-1762621200-1762639200@berkeleycountygop.com
SUMMARY:Eisenhower Dinner
DESCRIPTION:Eisenhower Reception Ticket 2025\n	$50.00\n\n\n	Eisenhower Dinner Ticket 2025\n	$75.00\n\n\n	Eisenhower Dinner 2 Tickets for $125\n	$125.00\n\n\n	Eisenhower Dinner Bronze Sponsor – $300\n	$300.00\n\n\n	Eisenhower Dinner Silver Sponsor – $500\n	$500.00\n\n\n	Eisenhower Table for 8 Dinner Tickets 2025\n	$525.00\n\n\n	Eisenhower Table for 10 Dinner Tickets 2025\n	$650.00\n\n\n	Eisenhower Dinner Gold Sponsor – $750\n	$750.00
URL:https://berkeleycountygop.com/event/eisenhower-dinner-3/
LOCATION:Heritage Hall\, 8539 Winchester Avenue\, Inwood\, WV\, United States
CATEGORIES:2025 Eisenhower Dinner
ATTACH;FMTTYPE=image/jpeg:https://berkeleycountygop.com/wp-content/uploads/2025/10/Eisenhower-Flyer.jpg
ORGANIZER;CN="Trisha Larimore":MAILTO:jrlriverrat1@yahoo.com
END:VEVENT
BEGIN:VEVENT
DTSTART;TZID=UTC:20251115T100000
DTEND;TZID=UTC:20251115T110000
DTSTAMP:20260421T212519
CREATED:20251122T100014Z
LAST-MODIFIED:20251129T135657Z
UID:1743-1763200800-1763204400@berkeleycountygop.com
SUMMARY:Berkeley County Republican Executive Committee
DESCRIPTION:November 15 meeting Canceled and moved. \nNovember meeting changed to November 29\, 2025. Same time and place.
URL:https://berkeleycountygop.com/event/berkeley-county-republican-executive-committee-11/
LOCATION:CNB Bank\, 1231 T.J. Jackson Drive\, Falling Waters\, WV\, 25419\, United States
END:VEVENT
BEGIN:VEVENT
DTSTART;TZID=UTC:20251120T183000
DTEND;TZID=UTC:20251120T200000
DTSTAMP:20260421T212519
CREATED:20250312T020841Z
LAST-MODIFIED:20250312T020841Z
UID:1723-1763663400-1763668800@berkeleycountygop.com
SUMMARY:Berkeley County Republican Club Meeting
DESCRIPTION:
URL:https://berkeleycountygop.com/event/berkeley-county-republican-club-meeting-7/
LOCATION:Bedington Ruritan Club\, 3947 Williamsport Pike\, Martinsburg\, WV\, 25404\, United States
END:VEVENT
BEGIN:VEVENT
DTSTART;TZID=UTC:20251124T183000
DTEND;TZID=UTC:20251124T200000
DTSTAMP:20260421T212519
CREATED:20250621T163002Z
LAST-MODIFIED:20250621T163002Z
UID:1914-1764009000-1764014400@berkeleycountygop.com
SUMMARY:Gateway Republican Women's Club
DESCRIPTION:Monthly Meeting \nPlace: TBD
URL:https://berkeleycountygop.com/event/gateway-republican-womens-club-6/
LOCATION:TBD
ORGANIZER;CN="Krista Kniesler":MAILTO:kniesler@live.com
END:VEVENT
END:VCALENDAR