BEGIN:VCALENDAR
VERSION:2.0
PRODID:-//Berkeley County Republican Club - ECPv6.15.20//NONSGML v1.0//EN
CALSCALE:GREGORIAN
METHOD:PUBLISH
X-WR-CALNAME:Berkeley County Republican Club
X-ORIGINAL-URL:https://berkeleycountygop.com
X-WR-CALDESC:Events for Berkeley County Republican Club
REFRESH-INTERVAL;VALUE=DURATION:PT1H
X-Robots-Tag:noindex
X-PUBLISHED-TTL:PT1H
BEGIN:VTIMEZONE
TZID:UTC
BEGIN:STANDARD
TZOFFSETFROM:+0000
TZOFFSETTO:+0000
TZNAME:UTC
DTSTART:20250101T000000
END:STANDARD
END:VTIMEZONE
BEGIN:VEVENT
DTSTART;TZID=UTC:20260105T190000
DTEND;TZID=UTC:20260105T200000
DTSTAMP:20260421T175634
CREATED:20250913T184205Z
LAST-MODIFIED:20250913T184205Z
UID:2029-1767639600-1767643200@berkeleycountygop.com
SUMMARY:Center Right Coalition
DESCRIPTION:If interested\, contact John Overington at 304.274.1791. This meeting is a tele-meeting. John has a variety of speakers from around the state and nationally.
URL:https://berkeleycountygop.com/event/center-right-coalition-4/
LOCATION:WV
END:VEVENT
BEGIN:VEVENT
DTSTART;TZID=UTC:20260106T190000
DTEND;TZID=UTC:20260106T210000
DTSTAMP:20260421T175634
CREATED:20260103T182757Z
LAST-MODIFIED:20260103T182757Z
UID:2239-1767726000-1767733200@berkeleycountygop.com
SUMMARY:Jefferson County Republican Executive Committee Meeting
DESCRIPTION:
URL:https://berkeleycountygop.com/event/jefferson-county-republican-executive-committee-meeting/
LOCATION:Clarion Inn\, 328 William L. Wilson Fwy\, Harpers Ferry\, WV\, United States
END:VEVENT
BEGIN:VEVENT
DTSTART;TZID=UTC:20260110T130000
DTEND;TZID=UTC:20260110T170000
DTSTAMP:20260421T175634
CREATED:20260103T183036Z
LAST-MODIFIED:20260103T183036Z
UID:2242-1768050000-1768064400@berkeleycountygop.com
SUMMARY:West Virginia GOP Executive Committee Meeting
DESCRIPTION:
URL:https://berkeleycountygop.com/event/west-virginia-gop-executive-committee-meeting/
LOCATION:Charleston\, WV
END:VEVENT
BEGIN:VEVENT
DTSTART;TZID=UTC:20260112T080000
DTEND;TZID=UTC:20260131T170000
DTSTAMP:20260421T175634
CREATED:20260103T183238Z
LAST-MODIFIED:20260103T183238Z
UID:2245-1768204800-1769878800@berkeleycountygop.com
SUMMARY:Candidate Filing Period for May 12 Primary
DESCRIPTION:
URL:https://berkeleycountygop.com/event/candidate-filing-period-for-may-12-primary/
LOCATION:WV
END:VEVENT
BEGIN:VEVENT
DTSTART;TZID=UTC:20260112T080000
DTEND;TZID=UTC:20260314T170000
DTSTAMP:20260421T175634
CREATED:20260103T183722Z
LAST-MODIFIED:20260103T183722Z
UID:2249-1768204800-1773507600@berkeleycountygop.com
SUMMARY:Legislatie Session Begins
DESCRIPTION:60-day Legislative Session begins 1/14 and goes through 3/14.
URL:https://berkeleycountygop.com/event/legislatie-session-begins/
LOCATION:Charleston\, WV
END:VEVENT
BEGIN:VEVENT
DTSTART;TZID=UTC:20260112T190000
DTEND;TZID=UTC:20260112T210000
DTSTAMP:20260421T175634
CREATED:20260103T183437Z
LAST-MODIFIED:20260103T183437Z
UID:2247-1768244400-1768251600@berkeleycountygop.com
SUMMARY:We the People Meeting
DESCRIPTION:
URL:https://berkeleycountygop.com/event/we-the-people-meeting/
LOCATION:Clarion Inn\, 328 William L. Wilson Fwy\, Harpers Ferry\, WV\, United States
END:VEVENT
BEGIN:VEVENT
DTSTART;TZID=UTC:20260115T183000
DTEND;TZID=UTC:20260115T200000
DTSTAMP:20260421T175634
CREATED:20251229T202628Z
LAST-MODIFIED:20251229T202628Z
UID:2144-1768501800-1768507200@berkeleycountygop.com
SUMMARY:Berkeley County Republican Club Meeting
DESCRIPTION:
URL:https://berkeleycountygop.com/event/berkeley-county-republican-club-meeting-8/
LOCATION:Bedington Ruritan Club\, 3947 Williamsport Pike\, Martinsburg\, WV\, 25404\, United States
END:VEVENT
BEGIN:VEVENT
DTSTART;TZID=UTC:20260116T080000
DTEND;TZID=UTC:20260116T170000
DTSTAMP:20260421T175634
CREATED:20260103T184421Z
LAST-MODIFIED:20260103T184421Z
UID:2251-1768550400-1768582800@berkeleycountygop.com
SUMMARY:Americans for Prosperity New Office Open House
DESCRIPTION:AFP New Office in Martinsburg \nOpen House-Come see the new Office. \nRSVP- to Ambrose Rucker \nat arucker@afphq.org \nor 304-707-6032
URL:https://berkeleycountygop.com/event/americans-for-prosperity-new-office-open-house/
LOCATION:AFP\, 1314 Edwin Miller Blvd.\, Martinsburg\, WV\, 25404\, United States
END:VEVENT
BEGIN:VEVENT
DTSTART;VALUE=DATE:20260123
DTEND;VALUE=DATE:20260124
DTSTAMP:20260421T175634
CREATED:20260103T184748Z
LAST-MODIFIED:20260103T184748Z
UID:2253-1769126400-1769212799@berkeleycountygop.com
SUMMARY:Annual March for Life
DESCRIPTION:March for Life locally and Bus Trips to Washington D.C. \ncall 304-216-6773
URL:https://berkeleycountygop.com/event/annual-march-for-life/
LOCATION:WV
END:VEVENT
BEGIN:VEVENT
DTSTART;TZID=UTC:20260124T100000
DTEND;TZID=UTC:20260124T110000
DTSTAMP:20260421T175634
CREATED:20251229T204735Z
LAST-MODIFIED:20251229T204735Z
UID:2168-1769248800-1769252400@berkeleycountygop.com
SUMMARY:Berkeley County Republican Executive Committee
DESCRIPTION:
URL:https://berkeleycountygop.com/event/berkeley-county-republican-executive-committee/
LOCATION:CNB Bank\, 1231 T.J. Jackson Drive\, Falling Waters\, WV\, 25419\, United States
END:VEVENT
BEGIN:VEVENT
DTSTART;VALUE=DATE:20260129
DTEND;VALUE=DATE:20260131
DTSTAMP:20260421T175634
CREATED:20260103T185602Z
LAST-MODIFIED:20260103T190247Z
UID:2255-1769644800-1769817599@berkeleycountygop.com
SUMMARY:AFP Sponsored Charleston Trip
DESCRIPTION:An all-expense paid trip to the state capital to see the legislative process in action\, meet your lawmakers where they are working for you and network with activists from across the state. \nRSVP- Ambrose Rucker at arucker@afphq.org \nor call 304-707-6032 if you can attend or have questions.
URL:https://berkeleycountygop.com/event/afp-sponsored-charleston-trip/
LOCATION:AFP\, 1314 Edwin Miller Blvd.\, Martinsburg\, WV\, 25404\, United States
END:VEVENT
END:VCALENDAR