BEGIN:VCALENDAR
VERSION:2.0
PRODID:-//Berkeley County Republican Club - ECPv6.15.20//NONSGML v1.0//EN
CALSCALE:GREGORIAN
METHOD:PUBLISH
X-WR-CALNAME:Berkeley County Republican Club
X-ORIGINAL-URL:https://berkeleycountygop.com
X-WR-CALDESC:Events for Berkeley County Republican Club
REFRESH-INTERVAL;VALUE=DURATION:PT1H
X-Robots-Tag:noindex
X-PUBLISHED-TTL:PT1H
BEGIN:VTIMEZONE
TZID:UTC
BEGIN:STANDARD
TZOFFSETFROM:+0000
TZOFFSETTO:+0000
TZNAME:UTC
DTSTART:20250101T000000
END:STANDARD
END:VTIMEZONE
BEGIN:VEVENT
DTSTART;TZID=UTC:20260112T080000
DTEND;TZID=UTC:20260314T170000
DTSTAMP:20260421T144653
CREATED:20260103T183722Z
LAST-MODIFIED:20260103T183722Z
UID:2249-1768204800-1773507600@berkeleycountygop.com
SUMMARY:Legislatie Session Begins
DESCRIPTION:60-day Legislative Session begins 1/14 and goes through 3/14.
URL:https://berkeleycountygop.com/event/legislatie-session-begins/
LOCATION:Charleston\, WV
END:VEVENT
BEGIN:VEVENT
DTSTART;TZID=UTC:20260302T190000
DTEND;TZID=UTC:20260302T200000
DTSTAMP:20260421T144653
CREATED:20251230T000233Z
LAST-MODIFIED:20251230T000233Z
UID:2216-1772478000-1772481600@berkeleycountygop.com
SUMMARY:Center Right Coalition
DESCRIPTION:If interested\, contact John Overington at 304.274.1791. This meeting is a tele-meeting. John has a variety of speakers from around the state and nationally.
URL:https://berkeleycountygop.com/event/center-right-coalition-6/
LOCATION:WV
END:VEVENT
BEGIN:VEVENT
DTSTART;TZID=UTC:20260319T183000
DTEND;TZID=UTC:20260319T200000
DTSTAMP:20260421T144653
CREATED:20251229T202944Z
LAST-MODIFIED:20251229T202944Z
UID:2148-1773945000-1773950400@berkeleycountygop.com
SUMMARY:Berkeley County Republican Club Meeting
DESCRIPTION:
URL:https://berkeleycountygop.com/event/berkeley-county-republican-club-meeting-10/
LOCATION:Bedington Ruritan Club\, 3947 Williamsport Pike\, Martinsburg\, WV\, 25404\, United States
ORGANIZER;CN="Chris Turner":MAILTO:cmturner.csi@gmail.com
END:VEVENT
BEGIN:VEVENT
DTSTART;TZID=UTC:20260328T100000
DTEND;TZID=UTC:20260328T110000
DTSTAMP:20260421T144653
CREATED:20251229T204942Z
LAST-MODIFIED:20251229T204942Z
UID:2172-1774692000-1774695600@berkeleycountygop.com
SUMMARY:Berkeley County Republican Executive Committee
DESCRIPTION:
URL:https://berkeleycountygop.com/event/berkeley-county-republican-executive-committee-13/
LOCATION:CNB Bank\, 1231 T.J. Jackson Drive\, Falling Waters\, WV\, 25419\, United States
END:VEVENT
BEGIN:VEVENT
DTSTART;TZID=UTC:20260330T183000
DTEND;TZID=UTC:20260330T203000
DTSTAMP:20260421T144653
CREATED:20251229T233022Z
LAST-MODIFIED:20251229T235402Z
UID:2196-1774895400-1774902600@berkeleycountygop.com
SUMMARY:Gateway Republican Women
DESCRIPTION:
URL:https://berkeleycountygop.com/event/gateway-republican-women-7/
LOCATION:AFP\, 1314 Edwin Miller Blvd.\, Martinsburg\, WV\, 25404\, United States
END:VEVENT
END:VCALENDAR