BEGIN:VCALENDAR
VERSION:2.0
PRODID:-//Berkeley County Republican Club - ECPv6.15.20//NONSGML v1.0//EN
CALSCALE:GREGORIAN
METHOD:PUBLISH
X-WR-CALNAME:Berkeley County Republican Club
X-ORIGINAL-URL:https://berkeleycountygop.com
X-WR-CALDESC:Events for Berkeley County Republican Club
REFRESH-INTERVAL;VALUE=DURATION:PT1H
X-Robots-Tag:noindex
X-PUBLISHED-TTL:PT1H
BEGIN:VTIMEZONE
TZID:UTC
BEGIN:STANDARD
TZOFFSETFROM:+0000
TZOFFSETTO:+0000
TZNAME:UTC
DTSTART:20250101T000000
END:STANDARD
END:VTIMEZONE
BEGIN:VEVENT
DTSTART;TZID=UTC:20260504T190000
DTEND;TZID=UTC:20260504T200000
DTSTAMP:20260421T144654
CREATED:20251230T000730Z
LAST-MODIFIED:20251230T000730Z
UID:2222-1777921200-1777924800@berkeleycountygop.com
SUMMARY:Center Right Coalition
DESCRIPTION:If interested\, contact John Overington at 304.274.1791. This meeting is a tele-meeting. John has a variety of speakers from around the state and nationally.
URL:https://berkeleycountygop.com/event/center-right-coalition-9/
LOCATION:WV
END:VEVENT
BEGIN:VEVENT
DTSTART;TZID=UTC:20260521T183000
DTEND;TZID=UTC:20260521T200000
DTSTAMP:20260421T144654
CREATED:20251229T203223Z
LAST-MODIFIED:20251229T203223Z
UID:2152-1779388200-1779393600@berkeleycountygop.com
SUMMARY:Berkeley County Republican Club Meeting
DESCRIPTION:
URL:https://berkeleycountygop.com/event/berkeley-county-republican-club-meeting-12/
LOCATION:Bedington Ruritan Club\, 3947 Williamsport Pike\, Martinsburg\, WV\, 25404\, United States
END:VEVENT
BEGIN:VEVENT
DTSTART;TZID=UTC:20260523T100000
DTEND;TZID=UTC:20260523T110000
DTSTAMP:20260421T144654
CREATED:20251229T205149Z
LAST-MODIFIED:20251229T205149Z
UID:2176-1779530400-1779534000@berkeleycountygop.com
SUMMARY:Berkeley County Republican Executive Committee
DESCRIPTION:
URL:https://berkeleycountygop.com/event/berkeley-county-republican-executive-committee-15/
LOCATION:CNB Bank\, 1231 T.J. Jackson Drive\, Falling Waters\, WV\, 25419\, United States
END:VEVENT
BEGIN:VEVENT
DTSTART;TZID=UTC:20260525T000000
DTEND;TZID=UTC:20260525T000000
DTSTAMP:20260421T144654
CREATED:20251229T233314Z
LAST-MODIFIED:20260401T201107Z
UID:2200-1779667200-1779667200@berkeleycountygop.com
SUMMARY:Gateway Republican Women
DESCRIPTION:No Meeting- Memorial Day \nMembers will be participating in Berkeley and Jefferson County Memorial Day Ceremonies.
URL:https://berkeleycountygop.com/event/gateway-republican-women-9/
LOCATION:AFP\, 1314 Edwin Miller Blvd.\, Martinsburg\, WV\, 25404\, United States
ORGANIZER;CN="Krista Kniesler":MAILTO:kniesler@live.com
END:VEVENT
END:VCALENDAR