BEGIN:VCALENDAR
VERSION:2.0
PRODID:-//Berkeley County Republican Club - ECPv6.15.20//NONSGML v1.0//EN
CALSCALE:GREGORIAN
METHOD:PUBLISH
X-ORIGINAL-URL:https://berkeleycountygop.com
X-WR-CALDESC:Events for Berkeley County Republican Club
REFRESH-INTERVAL;VALUE=DURATION:PT1H
X-Robots-Tag:noindex
X-PUBLISHED-TTL:PT1H
BEGIN:VTIMEZONE
TZID:UTC
BEGIN:STANDARD
TZOFFSETFROM:+0000
TZOFFSETTO:+0000
TZNAME:UTC
DTSTART:20250101T000000
END:STANDARD
END:VTIMEZONE
BEGIN:VEVENT
DTSTART;TZID=UTC:20260803T190000
DTEND;TZID=UTC:20260803T200000
DTSTAMP:20260421T191343
CREATED:20251230T001205Z
LAST-MODIFIED:20251230T001205Z
UID:2228-1785783600-1785787200@berkeleycountygop.com
SUMMARY:Center Right Coalition
DESCRIPTION:If interested\, contact John Overington at 304.274.1791. This meeting is a tele-meeting. John has a variety of speakers from around the state and nationally.
URL:https://berkeleycountygop.com/event/center-right-coalition-12/
LOCATION:WV
END:VEVENT
BEGIN:VEVENT
DTSTART;TZID=UTC:20260820T183000
DTEND;TZID=UTC:20260820T200000
DTSTAMP:20260421T191343
CREATED:20251229T203603Z
LAST-MODIFIED:20251229T203603Z
UID:2158-1787250600-1787256000@berkeleycountygop.com
SUMMARY:Berkeley County Republican Club Meeting
DESCRIPTION:
URL:https://berkeleycountygop.com/event/berkeley-county-republican-club-meeting-15/
LOCATION:Bedington Ruritan Club\, 3947 Williamsport Pike\, Martinsburg\, WV\, 25404\, United States
END:VEVENT
BEGIN:VEVENT
DTSTART;TZID=UTC:20260822T100000
DTEND;TZID=UTC:20260822T110000
DTSTAMP:20260421T191343
CREATED:20251229T205501Z
LAST-MODIFIED:20251229T210511Z
UID:2182-1787392800-1787396400@berkeleycountygop.com
SUMMARY:Berkeley County Republican Executive Committee
DESCRIPTION:
URL:https://berkeleycountygop.com/event/berkeley-county-republican-executive-committee-18/
LOCATION:CNB Bank\, 1231 T.J. Jackson Drive\, Falling Waters\, WV\, 25419\, United States
END:VEVENT
BEGIN:VEVENT
DTSTART;TZID=UTC:20260831T183000
DTEND;TZID=UTC:20260831T203000
DTSTAMP:20260421T191343
CREATED:20251229T233808Z
LAST-MODIFIED:20251229T233808Z
UID:2206-1788201000-1788208200@berkeleycountygop.com
SUMMARY:Gateway Republican Women
DESCRIPTION:
URL:https://berkeleycountygop.com/event/gateway-republican-women-12/
LOCATION:AFP\, 1314 Edwin Miller Blvd.\, Martinsburg\, WV\, 25404\, United States
ORGANIZER;CN="Krista Kniesler":MAILTO:kniesler@live.com
END:VEVENT
END:VCALENDAR